{"text_format":"3","workbook":"xlsx","n_sheets":6,"sheets":["DATOS","RESULTADOS POR JORNADA","TABLA DE POSICIONES","GRÁFICAS","Posiciones Auxiliar","Resultados Auxiliar"],"not_rendered":{"charts":6,"images":1,"macros":1,"defined_names":6},"read":"whole","date_system":"1900"}

{"sheet":"DATOS","index":0,"n_rows":19,"n_cols":9,"rows_kept":19,"merged":[[0,0,0,1]]}
["Puntaje",null,null,"Equipos",{"$nulls":4},1]
["Partido ganado",3,null,"AMERICA",{"$nulls":4},2]
["Partido empatado",1,null,"CRUZ AZUL",{"$nulls":4},3]
["Partido perdido",0,null,"CHIVAS",{"$nulls":4},4]
[{"$nulls":3},"PUMAS",{"$nulls":4},5]
["Cantidad de Equipos","18",null,"MONTERREY",{"$nulls":4},6]
[{"$nulls":3},"TIGRES",{"$nulls":4},7]
[{"$nulls":3},"MORELIA",{"$nulls":4},8]
[{"$nulls":3},"QUERETARO",{"$nulls":4},9]
[{"$nulls":3},"LEON",{"$nulls":4},10]
[{"$nulls":3},"ATLAS",{"$nulls":4},11]
[{"$nulls":3},"SANTOS",{"$nulls":4},12]
[{"$nulls":3},"TIJUANA",{"$nulls":4},13]
[{"$nulls":3},"LOBOS",{"$nulls":4},14]
[{"$nulls":3},"PUEBLA",{"$nulls":4},15]
[{"$nulls":3},"TOLUCA",{"$nulls":4},16]
[{"$nulls":3},"VERACRUZ",{"$nulls":4},17]
[{"$nulls":3},"PACHUCA",{"$nulls":4},18]
[{"$nulls":3},"NECAXA",{"$nulls":4},19]

{"sheet":"RESULTADOS POR JORNADA","index":1,"n_rows":78,"n_cols":43,"rows_kept":78,"merged":[[0,2,0,41],[2,0,41,0]]}
[null,null,"Visitante"]
[null,null,{"$f":"INDEX($B$3:$B$42,COLUMN()-2)","v":"AMERICA"},{"$f":"INDEX($B$3:$B$42,COLUMN()-2)","v":"CRUZ AZUL"},"CHIVAS","PUMAS","MONTERREY","TIGRES","MORELIA","QUERETARO","LEON","ATLAS","SANTOS","TIJUANA","LOBOS","PUEBLA","TOLUCA","VERACRUZ","PACHUCA","NECAXA",{"$error":"#REF!"},{"$error":"#REF!"},{"$error":"#REF!"},{"$error":"#REF!"},{"$error":"#REF!"},{"$error":"#REF!"},{"$error":"#REF!"},{"$error":"#REF!"},{"$error":"#REF!"},{"$error":"#REF!"},{"$error":"#REF!"},{"$error":"#REF!"},{"$error":"#REF!"},{"$error":"#REF!"},{"$error":"#REF!"},{"$error":"#REF!"},{"$error":"#REF!"},{"$error":"#REF!"},{"$error":"#REF!"},{"$error":"#REF!"},{"$error":"#REF!"},{"$error":"#REF!"}]
["Local",{"$f":"DATOS!D2","v":"AMERICA"},null,"0-0",{"$nulls":3},"3-0",null,"2-0","0-3",null,"1-0",null,"3-0","1-0",null,null,"3-0","1-3"]
[null,{"$f":"DATOS!D3","v":"CRUZ AZUL"},null,null,"0-1","2-1",null,null,"1-1","3-0",null,null,"1-2","1-0",{"$nulls":4},"4-1","2-1"]
[null,{"$f":"DATOS!D4","v":"CHIVAS"},"0-2",{"$nulls":3},"0-2",{"$nulls":3},"2-1","3-0",null,"2-0","0-1","1-3","1-0","0-0"]
[null,{"$f":"DATOS!D5","v":"PUMAS"},"1-0",null,"2-1",null,"1-1",null,"2-2",null,"1-3","2-2",null,"1-0",null,null,"2-2","0-0"]
[null,{"$f":"DATOS!D6","v":"MONTERREY"},"3-2","2-2",{"$nulls":3},"1-1",null,null,"2-2",null,"4-0",null,"4-0","0-0",null,null,"5-0","2-2"]
[null,{"$f":"DATOS!D7","v":"TIGRES"},null,"0-1","2-1","2-0",null,null,"3-3","4-1","2-2",null,"2-1",{"$nulls":5},"3-0","3-2"]
[null,{"$f":"DATOS!D8","v":"MORELIA"},"2-2",null,"1-0",null,"2-3",{"$nulls":3},"2-3","1-2",null,"1-4","1-1",null,"1-3","2-0"]
[null,{"$f":"DATOS!D9","v":"QUERETARO"},null,null,"0-0","0-2","1-2",null,"3-0",null,"0-4","1-2",null,"1-0",null,null,"0-0","2-1"]
[null,{"$f":"DATOS!D10","v":"LEON"},null,"2-0",{"$nulls":7},"5-2","3-0","0-1",null,null,"3-0","2-0","2-1","2-1"]
[null,{"$f":"DATOS!D11","v":"ATLAS"},"1-2","0-2",null,null,"2-0","0-1",{"$nulls":4},"1-0",null,"3-1","1-2",{"$nulls":3},"1-2"]
[null,{"$f":"DATOS!D12","v":"SANTOS"},null,null,"1-0","5-2",null,null,"1-0","2-1",{"$nulls":3},"1-1",null,null,"4-0",null,"0-0","1-2"]
[null,{"$f":"DATOS!D13","v":"TIJUANA"},"3-2",{"$nulls":3},"1-0","0-3",{"$nulls":3},"3-1",null,null,"1-2","4-0","2-0","3-0"]
[null,{"$f":"DATOS!D14","v":"LOBOS"},null,"1-4",null,"2-1",null,"0-3",null,"3-1","0-1",null,"2-0",null,null,"0-4",null,null,"1-1","2-3"]
[null,{"$f":"DATOS!D15","v":"PUEBLA"},null,"1-1",null,"1-0",null,"1-1","1-1","1-0","0-3",null,"1-1",{"$nulls":5},"1-1","1-4"]
[null,{"$f":"DATOS!D16","v":"TOLUCA"},"3-2","1-1",null,null,"5-1","0-1",{"$nulls":3},"2-0",null,null,"4-0","2-0",null,"3-1"]
[null,{"$f":"DATOS!D17","v":"VERACRUZ"},"0-2","1-1",null,null,"0-1","0-2",{"$nulls":3},"0-1","2-2",null,"0-1","0-1"]
[null,{"$f":"DATOS!D18","v":"PACHUCA"},null,null,"3-1","1-0",null,null,"2-0","3-0",null,"1-0",null,"4-0",null,null,"3-2","9-2"]
[null,{"$f":"DATOS!D19","v":"NECAXA"},null,null,"3-3","2-1",null,null,"0-0","1-0",{"$nulls":3},"1-2",null,null,"1-1","2-0","2-2"]
[null,{"$f":"DATOS!#REF!","v":{"$error":"#REF!"}}]
[null,{"$f":"DATOS!#REF!","v":{"$error":"#REF!"}}]
[null,{"$f":"DATOS!#REF!","v":{"$error":"#REF!"}}]
[null,{"$f":"DATOS!#REF!","v":{"$error":"#REF!"}}]
[null,{"$f":"DATOS!#REF!","v":{"$error":"#REF!"}}]
[null,{"$f":"DATOS!#REF!","v":{"$error":"#REF!"}}]
[null,{"$f":"DATOS!#REF!","v":{"$error":"#REF!"}}]
[null,{"$f":"DATOS!#REF!","v":{"$error":"#REF!"}}]
[null,{"$f":"DATOS!#REF!","v":{"$error":"#REF!"}}]
[null,{"$f":"DATOS!#REF!","v":{"$error":"#REF!"}}]
[null,{"$f":"DATOS!#REF!","v":{"$error":"#REF!"}}]
[null,{"$f":"DATOS!#REF!","v":{"$error":"#REF!"}}]
[null,{"$f":"DATOS!#REF!","v":{"$error":"#REF!"}}]
[null,{"$f":"DATOS!#REF!","v":{"$error":"#REF!"}}]
[null,{"$f":"DATOS!#REF!","v":{"$error":"#REF!"}}]
[null,{"$f":"DATOS!#REF!","v":{"$error":"#REF!"}}]
[null,{"$f":"DATOS!#REF!","v":{"$error":"#REF!"}}]
[null,{"$f":"DATOS!#REF!","v":{"$error":"#REF!"}}]
[null,{"$f":"DATOS!#REF!","v":{"$error":"#REF!"}}]
[null,{"$f":"DATOS!#REF!","v":{"$error":"#REF!"}}]
[null,{"$f":"DATOS!#REF!","v":{"$error":"#REF!"}}]
[null,{"$f":"DATOS!#REF!","v":{"$error":"#REF!"}}]
{"$rows_empty":29}
[{"$nulls":24},{"$f":"INT(RAND()*5)&\"-\"&INT(RAND()*5)","v":"3-2"},"3-4","3-3","2-0","2-0","3-4","0-4","1-4","1-0","0-3","3-0","3-2","1-3","1-4","3-1","1-2","0-2","0-1","2-3"]
[{"$nulls":24},"3-1","2-0","1-1","3-4","3-3","3-1","3-1","3-2","2-0","3-2","4-0","0-1","0-4","4-2","3-2","1-4","3-4","3-3","3-3"]
[{"$nulls":24},"1-0","0-2","3-2","4-2","2-3","3-4","4-2","0-3","2-2","1-3","2-0","4-3","1-1","0-4","3-4","1-0","3-2","2-2","0-0"]
[{"$nulls":24},"1-4","1-0","1-3","2-0","0-4","2-1","0-3","4-1","1-1","0-3","3-1","1-1","3-3","4-3","0-0","2-0","1-2","0-3","1-0"]
[{"$nulls":24},"0-3","3-4","1-2","2-3","0-1","2-1","0-3","2-3","1-4","4-2","3-3","1-4","0-3","2-4","4-2","2-3","2-3","0-4","3-3"]
[{"$nulls":24},"4-2","3-4","1-0","2-4","1-0","0-2","1-1","0-4","3-3","1-4","0-1","1-0","2-1","1-4","1-1","3-2","3-4","3-0","1-4"]
[{"$nulls":24},"2-4","3-4","1-3","3-4","0-1","1-3","4-4","3-1","4-0","3-0","3-4","2-4","4-3","1-3","0-3","3-3","2-3","4-1","2-4"]

{"sheet":"TABLA DE POSICIONES","index":2,"n_rows":42,"n_cols":26,"rows_kept":42,"merged":[[0,2,0,9],[0,10,0,17],[0,18,0,25]]}
[null,null,"Local",{"$nulls":7},"Visitante",{"$nulls":7},"Total"]
["Pos","Equipo","J","G","E","P","GF","GC","DF","Pts.","J","G","E","P","GF","GC","DF","Pts.","J","G","E","P","GF","GC","DF","Pts."]
[1,{"$f":"VLOOKUP($A3,Posiciones_Auxiliar,COLUMN(),0)","v":"LEON"},8,7,0,1,19,5,14,21,9,{"$f":"VLOOKUP($A3,Posiciones_Auxiliar,COLUMN(),0)","v":6},2,1,22,9,13,20,17,13,2,2,41,14,27,41]
[2,"TIGRES",9,6,2,1,21,11,10,20,8,5,2,1,12,5,7,17,17,11,4,2,33,16,17,37]
[3,"MONTERREY",9,4,5,0,23,9,14,17,8,4,1,3,10,12,-2,13,17,8,6,3,33,21,12,30]
[4,"CRUZ AZUL",8,5,1,2,14,7,7,16,9,3,5,1,12,8,4,14,17,8,6,3,26,15,11,30]
[5,"AMERICA",9,6,1,2,14,6,8,19,8,3,1,4,14,13,1,10,17,9,2,6,28,19,9,29]
[6,"NECAXA",8,3,4,1,12,9,3,13,9,5,1,3,20,15,5,16,17,8,5,4,32,24,8,29]
[7,"PACHUCA",8,8,0,0,26,5,21,24,9,0,4,5,6,21,-15,4,17,8,4,5,32,26,6,28]
[8,"TIJUANA",8,6,0,2,17,8,9,18,9,3,1,5,8,12,-4,10,17,9,1,7,25,20,5,28]
[9,"TOLUCA",8,6,1,1,20,6,14,19,9,1,3,5,8,17,-9,6,17,7,4,6,28,23,5,25]
[10,"PUEBLA",9,2,5,2,8,12,-4,11,8,4,1,3,10,9,1,13,17,6,6,5,18,21,-3,24]
[11,{"$f":"VLOOKUP($A13,Posiciones_Auxiliar,COLUMN(),0)","v":"SANTOS"},8,5,2,1,15,6,9,17,9,{"$f":"VLOOKUP($A13,Posiciones_Auxiliar,COLUMN(),0)","v":1},2,6,6,17,-11,5,17,6,4,7,21,23,-2,22]
[12,"LOBOS",9,3,1,5,11,18,-7,10,8,3,1,4,6,16,-10,10,17,6,2,9,17,34,-17,20]
[13,"ATLAS",8,3,0,5,9,10,-1,9,9,3,1,5,10,18,-8,10,17,6,1,10,19,28,-9,19]
[14,"CHIVAS",9,4,1,4,9,9,0,13,8,1,2,5,7,12,-5,5,17,5,3,9,16,21,-5,18]
[15,"PUMAS",9,3,5,1,12,11,1,14,8,1,0,7,7,15,-8,3,17,4,5,8,19,26,-7,17]
[16,"MORELIA",9,2,2,5,13,18,-5,8,8,0,5,3,7,13,-6,5,17,2,7,8,20,31,-11,13]
[17,"QUERETARO",9,3,2,4,8,11,-3,11,8,0,0,8,3,19,-16,0,17,3,2,12,11,30,-19,11]
[18,"VERACRUZ",8,0,2,6,3,11,-8,2,9,0,2,7,4,23,-19,2,17,0,4,13,7,34,-27,4]
[19,{"$error":"#REF!"},0,0,0,0,0,0,0,0,0,0,0,0,0,0,0,0,0,0,0,0,0,0,0,0]
[20,{"$error":"#REF!"},0,0,0,0,0,0,0,0,0,0,0,0,0,0,0,0,0,0,0,0,0,0,0,0]
[21,{"$f":"VLOOKUP($A23,Posiciones_Auxiliar,COLUMN(),0)","v":{"$error":"#REF!"}},0,0,0,0,0,0,0,0,0,{"$f":"VLOOKUP($A23,Posiciones_Auxiliar,COLUMN(),0)","v":0},0,0,0,0,0,0,0,0,0,0,0,0,0,0]
[22,{"$error":"#REF!"},0,0,0,0,0,0,0,0,0,0,0,0,0,0,0,0,0,0,0,0,0,0,0,0]
[23,{"$error":"#REF!"},0,0,0,0,0,0,0,0,0,0,0,0,0,0,0,0,0,0,0,0,0,0,0,0]
[24,{"$error":"#REF!"},0,0,0,0,0,0,0,0,0,0,0,0,0,0,0,0,0,0,0,0,0,0,0,0]
[25,{"$error":"#REF!"},0,0,0,0,0,0,0,0,0,0,0,0,0,0,0,0,0,0,0,0,0,0,0,0]
[26,{"$error":"#REF!"},0,0,0,0,0,0,0,0,0,0,0,0,0,0,0,0,0,0,0,0,0,0,0,0]
[27,{"$error":"#REF!"},0,0,0,0,0,0,0,0,0,0,0,0,0,0,0,0,0,0,0,0,0,0,0,0]
[28,{"$error":"#REF!"},0,0,0,0,0,0,0,0,0,0,0,0,0,0,0,0,0,0,0,0,0,0,0,0]
[29,{"$error":"#REF!"},0,0,0,0,0,0,0,0,0,0,0,0,0,0,0,0,0,0,0,0,0,0,0,0]
[30,{"$error":"#REF!"},0,0,0,0,0,0,0,0,0,0,0,0,0,0,0,0,0,0,0,0,0,0,0,0]
[31,{"$f":"VLOOKUP($A33,Posiciones_Auxiliar,COLUMN(),0)","v":{"$error":"#REF!"}},0,0,0,0,0,0,0,0,0,{"$f":"VLOOKUP($A33,Posiciones_Auxiliar,COLUMN(),0)","v":0},0,0,0,0,0,0,0,0,0,0,0,0,0,0]
[32,{"$error":"#REF!"},0,0,0,0,0,0,0,0,0,0,0,0,0,0,0,0,0,0,0,0,0,0,0,0]
[33,{"$error":"#REF!"},0,0,0,0,0,0,0,0,0,0,0,0,0,0,0,0,0,0,0,0,0,0,0,0]
[34,{"$error":"#REF!"},0,0,0,0,0,0,0,0,0,0,0,0,0,0,0,0,0,0,0,0,0,0,0,0]
[35,{"$error":"#REF!"},0,0,0,0,0,0,0,0,0,0,0,0,0,0,0,0,0,0,0,0,0,0,0,0]
[36,{"$error":"#REF!"},0,0,0,0,0,0,0,0,0,0,0,0,0,0,0,0,0,0,0,0,0,0,0,0]
[37,{"$error":"#REF!"},0,0,0,0,0,0,0,0,0,0,0,0,0,0,0,0,0,0,0,0,0,0,0,0]
[38,{"$error":"#REF!"},0,0,0,0,0,0,0,0,0,0,0,0,0,0,0,0,0,0,0,0,0,0,0,0]
[39,{"$error":"#REF!"},0,0,0,0,0,0,0,0,0,0,0,0,0,0,0,0,0,0,0,0,0,0,0,0]
[40,{"$error":"#REF!"},0,0,0,0,0,0,0,0,0,0,0,0,0,0,0,0,0,0,0,0,0,0,0,0]

{"sheet":"GRÁFICAS","index":3,"n_rows":3,"n_cols":2,"rows_kept":3,"merged":[[2,1,2,5]]}
[]
[]
[null,"EQUIPO CON MAYOR PUNTUACIÓN EN EL TORNEO"]

{"sheet":"Posiciones Auxiliar","index":4,"n_rows":42,"n_cols":27,"rows_kept":42,"hidden":true,"merged":[[0,2,0,9],[0,10,0,17],[0,18,0,25]]}
[null,null,"Local",{"$nulls":7},"Visitante",{"$nulls":7},"Total"]
["Posicion","Equipo","J","G","E","P","GF","GC","DF","Pts.","J","G","E","P","GF","GC","DF","Pts.","J","G","E","P","GF","GC","DF","Pts.","Ranking"]
[{"$f":"RANK(AA3,$AA$3:$AA$42)","v":5},{"$f":"DATOS!D2","v":"AMERICA"},{"$f":"COUNTA('RESULTADOS POR JORNADA'!C3:AP3)","v":9},{"$f":"COUNTIF('Resultados Auxiliar'!B3:AP3,\">0\")","v":6},{"$f":"COUNTIF('Resultados Auxiliar'!B3:AP3,\"=0\")","v":1},{"$f":"COUNTIF('Resultados Auxiliar'!B3:AP3,\"<0\")","v":2},{"$f":"SUM(IF(ISNUMBER(--LEFT('RESULTADOS POR JORNADA'!C3:AP3,FIND(\"-\",'RESULTADOS POR JORNADA'!C3:AP3)-1)),--LEFT('RESULTADOS POR JORNADA'!C3:AP3,FIND(\"-\",'RESULTADOS POR JORNADA'!C3:AP3)-1)))","v":14},{"$f":"SUM(IF(ISNUMBER(--RIGHT('RESULTADOS POR JORNADA'!C3:AP3,(LEN('RESULTADOS POR JORNADA'!C3:AP3)-FIND(\"-\",'RESULTADOS POR JORNADA'!C3:AP3)))),--RIGHT('RESULTADOS POR JORNADA'!C3:AP3,(LEN('RESULTADOS POR JORNADA'!C3:AP3)-FIND(\"-\",'RESULTADOS POR JORNADA'!C3:AP3)))))","v":6},{"$f":"G3-H3","v":8},{"$f":"D3*Partido_ganado+E3*Partido_empatado+F3*Partido_perdido","v":19},{"$f":"COUNTA(INDEX('RESULTADOS POR JORNADA'!$A$3:$AP$42,,ROW()))","v":8},{"$f":"COUNTIF(INDEX('Resultados Auxiliar'!$B$3:$AO$42,,ROW()-2),\"<0\")","v":3},{"$f":"COUNTIF(INDEX('Resultados Auxiliar'!$B$3:$AO$42,,ROW()-2),\"=0\")","v":1},{"$f":"COUNTIF(INDEX('Resultados Auxiliar'!$B$3:$AO$42,,ROW()-2),\">0\")","v":4},{"$f":"SUM(IF(ISNUMBER(--RIGHT(rngVisitante,(LEN(rngVisitante)-FIND(\"-\",rngVisitante)))),--RIGHT(rngVisitante,(LEN(rngVisitante)-FIND(\"-\",rngVisitante)))))","v":14},{"$f":"SUM(IF(ISNUMBER(--LEFT(rngVisitante,FIND(\"-\",rngVisitante)-1)),--LEFT(rngVisitante,FIND(\"-\",rngVisitante)-1)))","v":13},{"$f":"O3-P3","v":1},{"$f":"L3*Partido_ganado+M3*Partido_empatado+N3*Partido_perdido","v":10},{"$f":"C3+K3","v":17},9,2,6,{"$f":"G3+O3","v":28},{"$f":"H3+P3","v":19},{"$f":"I3+Q3","v":9},{"$f":"J3+R3","v":29},{"$f":"IF(S3=0,-2000000-ROW(),Z3*10000000+Y3*10000+W3*100+(30-ROW()))","v":{"v":290092827,"d":"290,092,827"}}]
[{"$f":"RANK(AA4,$AA$3:$AA$42)","v":4},{"$f":"DATOS!D3","v":"CRUZ AZUL"},{"$f":"COUNTA('RESULTADOS POR JORNADA'!C4:AP4)","v":8},{"$f":"COUNTIF('Resultados Auxiliar'!B4:AP4,\">0\")","v":5},{"$f":"COUNTIF('Resultados Auxiliar'!B4:AP4,\"=0\")","v":1},{"$f":"COUNTIF('Resultados Auxiliar'!B4:AP4,\"<0\")","v":2},{"$f":"SUM(IF(ISNUMBER(--LEFT('RESULTADOS POR JORNADA'!C4:AP4,FIND(\"-\",'RESULTADOS POR JORNADA'!C4:AP4)-1)),--LEFT('RESULTADOS POR JORNADA'!C4:AP4,FIND(\"-\",'RESULTADOS POR JORNADA'!C4:AP4)-1)))","v":14},{"$f":"SUM(IF(ISNUMBER(--RIGHT('RESULTADOS POR JORNADA'!C4:AP4,(LEN('RESULTADOS POR JORNADA'!C4:AP4)-FIND(\"-\",'RESULTADOS POR JORNADA'!C4:AP4)))),--RIGHT('RESULTADOS POR JORNADA'!C4:AP4,(LEN('RESULTADOS POR JORNADA'!C4:AP4)-FIND(\"-\",'RESULTADOS POR JORNADA'!C4:AP4)))))","v":7},7,16,{"$f":"COUNTA(INDEX('RESULTADOS POR JORNADA'!$A$3:$AP$42,,ROW()))","v":9},{"$f":"COUNTIF(INDEX('Resultados Auxiliar'!$B$3:$AO$42,,ROW()-2),\"<0\")","v":3},{"$f":"COUNTIF(INDEX('Resultados Auxiliar'!$B$3:$AO$42,,ROW()-2),\"=0\")","v":5},{"$f":"COUNTIF(INDEX('Resultados Auxiliar'!$B$3:$AO$42,,ROW()-2),\">0\")","v":1},{"$f":"SUM(IF(ISNUMBER(--RIGHT(rngVisitante,(LEN(rngVisitante)-FIND(\"-\",rngVisitante)))),--RIGHT(rngVisitante,(LEN(rngVisitante)-FIND(\"-\",rngVisitante)))))","v":12},{"$f":"SUM(IF(ISNUMBER(--LEFT(rngVisitante,FIND(\"-\",rngVisitante)-1)),--LEFT(rngVisitante,FIND(\"-\",rngVisitante)-1)))","v":8},4,14,17,8,6,3,26,15,11,30,{"v":300112626,"d":"300,112,626"}]
[14,{"$f":"DATOS!D4","v":"CHIVAS"},{"$f":"COUNTA('RESULTADOS POR JORNADA'!C5:AP5)","v":9},{"$f":"COUNTIF('Resultados Auxiliar'!B5:AP5,\">0\")","v":4},{"$f":"COUNTIF('Resultados Auxiliar'!B5:AP5,\"=0\")","v":1},{"$f":"COUNTIF('Resultados Auxiliar'!B5:AP5,\"<0\")","v":4},{"$f":"SUM(IF(ISNUMBER(--LEFT('RESULTADOS POR JORNADA'!C5:AP5,FIND(\"-\",'RESULTADOS POR JORNADA'!C5:AP5)-1)),--LEFT('RESULTADOS POR JORNADA'!C5:AP5,FIND(\"-\",'RESULTADOS POR JORNADA'!C5:AP5)-1)))","v":9},{"$f":"SUM(IF(ISNUMBER(--RIGHT('RESULTADOS POR JORNADA'!C5:AP5,(LEN('RESULTADOS POR JORNADA'!C5:AP5)-FIND(\"-\",'RESULTADOS POR JORNADA'!C5:AP5)))),--RIGHT('RESULTADOS POR JORNADA'!C5:AP5,(LEN('RESULTADOS POR JORNADA'!C5:AP5)-FIND(\"-\",'RESULTADOS POR JORNADA'!C5:AP5)))))","v":9},0,13,{"$f":"COUNTA(INDEX('RESULTADOS POR JORNADA'!$A$3:$AP$42,,ROW()))","v":8},{"$f":"COUNTIF(INDEX('Resultados Auxiliar'!$B$3:$AO$42,,ROW()-2),\"<0\")","v":1},{"$f":"COUNTIF(INDEX('Resultados Auxiliar'!$B$3:$AO$42,,ROW()-2),\"=0\")","v":2},{"$f":"COUNTIF(INDEX('Resultados Auxiliar'!$B$3:$AO$42,,ROW()-2),\">0\")","v":5},{"$f":"SUM(IF(ISNUMBER(--RIGHT(rngVisitante,(LEN(rngVisitante)-FIND(\"-\",rngVisitante)))),--RIGHT(rngVisitante,(LEN(rngVisitante)-FIND(\"-\",rngVisitante)))))","v":7},{"$f":"SUM(IF(ISNUMBER(--LEFT(rngVisitante,FIND(\"-\",rngVisitante)-1)),--LEFT(rngVisitante,FIND(\"-\",rngVisitante)-1)))","v":12},-5,5,17,5,3,9,16,21,-5,18,{"v":179951625,"d":"179,951,625"}]
[15,{"$f":"DATOS!D5","v":"PUMAS"},{"$f":"COUNTA('RESULTADOS POR JORNADA'!C6:AP6)","v":9},{"$f":"COUNTIF('Resultados Auxiliar'!B6:AP6,\">0\")","v":3},{"$f":"COUNTIF('Resultados Auxiliar'!B6:AP6,\"=0\")","v":5},{"$f":"COUNTIF('Resultados Auxiliar'!B6:AP6,\"<0\")","v":1},{"$f":"SUM(IF(ISNUMBER(--LEFT('RESULTADOS POR JORNADA'!C6:AP6,FIND(\"-\",'RESULTADOS POR JORNADA'!C6:AP6)-1)),--LEFT('RESULTADOS POR JORNADA'!C6:AP6,FIND(\"-\",'RESULTADOS POR JORNADA'!C6:AP6)-1)))","v":12},{"$f":"SUM(IF(ISNUMBER(--RIGHT('RESULTADOS POR JORNADA'!C6:AP6,(LEN('RESULTADOS POR JORNADA'!C6:AP6)-FIND(\"-\",'RESULTADOS POR JORNADA'!C6:AP6)))),--RIGHT('RESULTADOS POR JORNADA'!C6:AP6,(LEN('RESULTADOS POR JORNADA'!C6:AP6)-FIND(\"-\",'RESULTADOS POR JORNADA'!C6:AP6)))))","v":11},1,14,{"$f":"COUNTA(INDEX('RESULTADOS POR JORNADA'!$A$3:$AP$42,,ROW()))","v":8},{"$f":"COUNTIF(INDEX('Resultados Auxiliar'!$B$3:$AO$42,,ROW()-2),\"<0\")","v":1},{"$f":"COUNTIF(INDEX('Resultados Auxiliar'!$B$3:$AO$42,,ROW()-2),\"=0\")","v":0},{"$f":"COUNTIF(INDEX('Resultados Auxiliar'!$B$3:$AO$42,,ROW()-2),\">0\")","v":7},{"$f":"SUM(IF(ISNUMBER(--RIGHT(rngVisitante,(LEN(rngVisitante)-FIND(\"-\",rngVisitante)))),--RIGHT(rngVisitante,(LEN(rngVisitante)-FIND(\"-\",rngVisitante)))))","v":7},{"$f":"SUM(IF(ISNUMBER(--LEFT(rngVisitante,FIND(\"-\",rngVisitante)-1)),--LEFT(rngVisitante,FIND(\"-\",rngVisitante)-1)))","v":15},-8,3,17,4,5,8,19,26,-7,17,{"v":169931924,"d":"169,931,924"}]
[3,{"$f":"DATOS!D6","v":"MONTERREY"},{"$f":"COUNTA('RESULTADOS POR JORNADA'!C7:AP7)","v":9},{"$f":"COUNTIF('Resultados Auxiliar'!B7:AP7,\">0\")","v":4},{"$f":"COUNTIF('Resultados Auxiliar'!B7:AP7,\"=0\")","v":5},{"$f":"COUNTIF('Resultados Auxiliar'!B7:AP7,\"<0\")","v":0},{"$f":"SUM(IF(ISNUMBER(--LEFT('RESULTADOS POR JORNADA'!C7:AP7,FIND(\"-\",'RESULTADOS POR JORNADA'!C7:AP7)-1)),--LEFT('RESULTADOS POR JORNADA'!C7:AP7,FIND(\"-\",'RESULTADOS POR JORNADA'!C7:AP7)-1)))","v":23},{"$f":"SUM(IF(ISNUMBER(--RIGHT('RESULTADOS POR JORNADA'!C7:AP7,(LEN('RESULTADOS POR JORNADA'!C7:AP7)-FIND(\"-\",'RESULTADOS POR JORNADA'!C7:AP7)))),--RIGHT('RESULTADOS POR JORNADA'!C7:AP7,(LEN('RESULTADOS POR JORNADA'!C7:AP7)-FIND(\"-\",'RESULTADOS POR JORNADA'!C7:AP7)))))","v":9},14,17,{"$f":"COUNTA(INDEX('RESULTADOS POR JORNADA'!$A$3:$AP$42,,ROW()))","v":8},{"$f":"COUNTIF(INDEX('Resultados Auxiliar'!$B$3:$AO$42,,ROW()-2),\"<0\")","v":4},{"$f":"COUNTIF(INDEX('Resultados Auxiliar'!$B$3:$AO$42,,ROW()-2),\"=0\")","v":1},{"$f":"COUNTIF(INDEX('Resultados Auxiliar'!$B$3:$AO$42,,ROW()-2),\">0\")","v":3},{"$f":"SUM(IF(ISNUMBER(--RIGHT(rngVisitante,(LEN(rngVisitante)-FIND(\"-\",rngVisitante)))),--RIGHT(rngVisitante,(LEN(rngVisitante)-FIND(\"-\",rngVisitante)))))","v":10},{"$f":"SUM(IF(ISNUMBER(--LEFT(rngVisitante,FIND(\"-\",rngVisitante)-1)),--LEFT(rngVisitante,FIND(\"-\",rngVisitante)-1)))","v":12},-2,{"$f":"L7*Partido_ganado+M7*Partido_empatado+N7*Partido_perdido","v":13},{"$f":"C7+K7","v":17},{"$f":"D7+L7","v":8},{"$f":"E7+M7","v":6},{"$f":"F7+N7","v":3},33,21,{"$f":"I7+Q7","v":12},{"$f":"J7+R7","v":30},{"v":300123323,"d":"300,123,323"}]
[2,{"$f":"DATOS!D7","v":"TIGRES"},{"$f":"COUNTA('RESULTADOS POR JORNADA'!C8:AP8)","v":9},{"$f":"COUNTIF('Resultados Auxiliar'!B8:AP8,\">0\")","v":6},{"$f":"COUNTIF('Resultados Auxiliar'!B8:AP8,\"=0\")","v":2},{"$f":"COUNTIF('Resultados Auxiliar'!B8:AP8,\"<0\")","v":1},{"$f":"SUM(IF(ISNUMBER(--LEFT('RESULTADOS POR JORNADA'!C8:AP8,FIND(\"-\",'RESULTADOS POR JORNADA'!C8:AP8)-1)),--LEFT('RESULTADOS POR JORNADA'!C8:AP8,FIND(\"-\",'RESULTADOS POR JORNADA'!C8:AP8)-1)))","v":21},{"$f":"SUM(IF(ISNUMBER(--RIGHT('RESULTADOS POR JORNADA'!C8:AP8,(LEN('RESULTADOS POR JORNADA'!C8:AP8)-FIND(\"-\",'RESULTADOS POR JORNADA'!C8:AP8)))),--RIGHT('RESULTADOS POR JORNADA'!C8:AP8,(LEN('RESULTADOS POR JORNADA'!C8:AP8)-FIND(\"-\",'RESULTADOS POR JORNADA'!C8:AP8)))))","v":11},10,20,{"$f":"COUNTA(INDEX('RESULTADOS POR JORNADA'!$A$3:$AP$42,,ROW()))","v":8},{"$f":"COUNTIF(INDEX('Resultados Auxiliar'!$B$3:$AO$42,,ROW()-2),\"<0\")","v":5},{"$f":"COUNTIF(INDEX('Resultados Auxiliar'!$B$3:$AO$42,,ROW()-2),\"=0\")","v":2},{"$f":"COUNTIF(INDEX('Resultados Auxiliar'!$B$3:$AO$42,,ROW()-2),\">0\")","v":1},{"$f":"SUM(IF(ISNUMBER(--RIGHT(rngVisitante,(LEN(rngVisitante)-FIND(\"-\",rngVisitante)))),--RIGHT(rngVisitante,(LEN(rngVisitante)-FIND(\"-\",rngVisitante)))))","v":12},{"$f":"SUM(IF(ISNUMBER(--LEFT(rngVisitante,FIND(\"-\",rngVisitante)-1)),--LEFT(rngVisitante,FIND(\"-\",rngVisitante)-1)))","v":5},7,17,17,11,4,2,33,16,17,37,{"v":370173322,"d":"370,173,322"}]
[16,{"$f":"DATOS!D8","v":"MORELIA"},{"$f":"COUNTA('RESULTADOS POR JORNADA'!C9:AP9)","v":9},{"$f":"COUNTIF('Resultados Auxiliar'!B9:AP9,\">0\")","v":2},{"$f":"COUNTIF('Resultados Auxiliar'!B9:AP9,\"=0\")","v":2},{"$f":"COUNTIF('Resultados Auxiliar'!B9:AP9,\"<0\")","v":5},{"$f":"SUM(IF(ISNUMBER(--LEFT('RESULTADOS POR JORNADA'!C9:AP9,FIND(\"-\",'RESULTADOS POR JORNADA'!C9:AP9)-1)),--LEFT('RESULTADOS POR JORNADA'!C9:AP9,FIND(\"-\",'RESULTADOS POR JORNADA'!C9:AP9)-1)))","v":13},{"$f":"SUM(IF(ISNUMBER(--RIGHT('RESULTADOS POR JORNADA'!C9:AP9,(LEN('RESULTADOS POR JORNADA'!C9:AP9)-FIND(\"-\",'RESULTADOS POR JORNADA'!C9:AP9)))),--RIGHT('RESULTADOS POR JORNADA'!C9:AP9,(LEN('RESULTADOS POR JORNADA'!C9:AP9)-FIND(\"-\",'RESULTADOS POR JORNADA'!C9:AP9)))))","v":18},{"$f":"G9-H9","v":-5},{"$f":"D9*Partido_ganado+E9*Partido_empatado+F9*Partido_perdido","v":8},{"$f":"COUNTA(INDEX('RESULTADOS POR JORNADA'!$A$3:$AP$42,,ROW()))","v":8},{"$f":"COUNTIF(INDEX('Resultados Auxiliar'!$B$3:$AO$42,,ROW()-2),\"<0\")","v":0},{"$f":"COUNTIF(INDEX('Resultados Auxiliar'!$B$3:$AO$42,,ROW()-2),\"=0\")","v":5},{"$f":"COUNTIF(INDEX('Resultados Auxiliar'!$B$3:$AO$42,,ROW()-2),\">0\")","v":3},{"$f":"SUM(IF(ISNUMBER(--RIGHT(rngVisitante,(LEN(rngVisitante)-FIND(\"-\",rngVisitante)))),--RIGHT(rngVisitante,(LEN(rngVisitante)-FIND(\"-\",rngVisitante)))))","v":7},{"$f":"SUM(IF(ISNUMBER(--LEFT(rngVisitante,FIND(\"-\",rngVisitante)-1)),--LEFT(rngVisitante,FIND(\"-\",rngVisitante)-1)))","v":13},{"$f":"O9-P9","v":-6},{"$f":"L9*Partido_ganado+M9*Partido_empatado+N9*Partido_perdido","v":5},{"$f":"C9+K9","v":17},{"$f":"D9+L9","v":2},{"$f":"E9+M9","v":7},{"$f":"F9+N9","v":8},{"$f":"G9+O9","v":20},{"$f":"H9+P9","v":31},{"$f":"I9+Q9","v":-11},{"$f":"J9+R9","v":13},{"$f":"IF(S9=0,-2000000-ROW(),Z9*10000000+Y9*10000+W9*100+(30-ROW()))","v":{"v":129892021,"d":"129,892,021"}}]
[17,{"$f":"DATOS!D9","v":"QUERETARO"},{"$f":"COUNTA('RESULTADOS POR JORNADA'!C10:AP10)","v":9},{"$f":"COUNTIF('Resultados Auxiliar'!B10:AP10,\">0\")","v":3},{"$f":"COUNTIF('Resultados Auxiliar'!B10:AP10,\"=0\")","v":2},{"$f":"COUNTIF('Resultados Auxiliar'!B10:AP10,\"<0\")","v":4},{"$f":"SUM(IF(ISNUMBER(--LEFT('RESULTADOS POR JORNADA'!C10:AP10,FIND(\"-\",'RESULTADOS POR JORNADA'!C10:AP10)-1)),--LEFT('RESULTADOS POR JORNADA'!C10:AP10,FIND(\"-\",'RESULTADOS POR JORNADA'!C10:AP10)-1)))","v":8},{"$f":"SUM(IF(ISNUMBER(--RIGHT('RESULTADOS POR JORNADA'!C10:AP10,(LEN('RESULTADOS POR JORNADA'!C10:AP10)-FIND(\"-\",'RESULTADOS POR JORNADA'!C10:AP10)))),--RIGHT('RESULTADOS POR JORNADA'!C10:AP10,(LEN('RESULTADOS POR JORNADA'!C10:AP10)-FIND(\"-\",'RESULTADOS POR JORNADA'!C10:AP10)))))","v":11},-3,11,{"$f":"COUNTA(INDEX('RESULTADOS POR JORNADA'!$A$3:$AP$42,,ROW()))","v":8},{"$f":"COUNTIF(INDEX('Resultados Auxiliar'!$B$3:$AO$42,,ROW()-2),\"<0\")","v":0},{"$f":"COUNTIF(INDEX('Resultados Auxiliar'!$B$3:$AO$42,,ROW()-2),\"=0\")","v":0},{"$f":"COUNTIF(INDEX('Resultados Auxiliar'!$B$3:$AO$42,,ROW()-2),\">0\")","v":8},{"$f":"SUM(IF(ISNUMBER(--RIGHT(rngVisitante,(LEN(rngVisitante)-FIND(\"-\",rngVisitante)))),--RIGHT(rngVisitante,(LEN(rngVisitante)-FIND(\"-\",rngVisitante)))))","v":3},{"$f":"SUM(IF(ISNUMBER(--LEFT(rngVisitante,FIND(\"-\",rngVisitante)-1)),--LEFT(rngVisitante,FIND(\"-\",rngVisitante)-1)))","v":19},-16,0,17,3,2,12,11,30,-19,11,{"v":109811120,"d":"109,811,120"}]
[1,{"$f":"DATOS!D10","v":"LEON"},{"$f":"COUNTA('RESULTADOS POR JORNADA'!C11:AP11)","v":8},{"$f":"COUNTIF('Resultados Auxiliar'!B11:AP11,\">0\")","v":7},{"$f":"COUNTIF('Resultados Auxiliar'!B11:AP11,\"=0\")","v":0},{"$f":"COUNTIF('Resultados Auxiliar'!B11:AP11,\"<0\")","v":1},{"$f":"SUM(IF(ISNUMBER(--LEFT('RESULTADOS POR JORNADA'!C11:AP11,FIND(\"-\",'RESULTADOS POR JORNADA'!C11:AP11)-1)),--LEFT('RESULTADOS POR JORNADA'!C11:AP11,FIND(\"-\",'RESULTADOS POR JORNADA'!C11:AP11)-1)))","v":19},{"$f":"SUM(IF(ISNUMBER(--RIGHT('RESULTADOS POR JORNADA'!C11:AP11,(LEN('RESULTADOS POR JORNADA'!C11:AP11)-FIND(\"-\",'RESULTADOS POR JORNADA'!C11:AP11)))),--RIGHT('RESULTADOS POR JORNADA'!C11:AP11,(LEN('RESULTADOS POR JORNADA'!C11:AP11)-FIND(\"-\",'RESULTADOS POR JORNADA'!C11:AP11)))))","v":5},14,21,{"$f":"COUNTA(INDEX('RESULTADOS POR JORNADA'!$A$3:$AP$42,,ROW()))","v":9},{"$f":"COUNTIF(INDEX('Resultados Auxiliar'!$B$3:$AO$42,,ROW()-2),\"<0\")","v":6},{"$f":"COUNTIF(INDEX('Resultados Auxiliar'!$B$3:$AO$42,,ROW()-2),\"=0\")","v":2},{"$f":"COUNTIF(INDEX('Resultados Auxiliar'!$B$3:$AO$42,,ROW()-2),\">0\")","v":1},{"$f":"SUM(IF(ISNUMBER(--RIGHT(rngVisitante,(LEN(rngVisitante)-FIND(\"-\",rngVisitante)))),--RIGHT(rngVisitante,(LEN(rngVisitante)-FIND(\"-\",rngVisitante)))))","v":22},{"$f":"SUM(IF(ISNUMBER(--LEFT(rngVisitante,FIND(\"-\",rngVisitante)-1)),--LEFT(rngVisitante,FIND(\"-\",rngVisitante)-1)))","v":9},13,20,17,13,2,2,41,14,27,41,{"v":410274119,"d":"410,274,119"}]
[13,{"$f":"DATOS!D11","v":"ATLAS"},{"$f":"COUNTA('RESULTADOS POR JORNADA'!C12:AP12)","v":8},{"$f":"COUNTIF('Resultados Auxiliar'!B12:AP12,\">0\")","v":3},{"$f":"COUNTIF('Resultados Auxiliar'!B12:AP12,\"=0\")","v":0},{"$f":"COUNTIF('Resultados Auxiliar'!B12:AP12,\"<0\")","v":5},{"$f":"SUM(IF(ISNUMBER(--LEFT('RESULTADOS POR JORNADA'!C12:AP12,FIND(\"-\",'RESULTADOS POR JORNADA'!C12:AP12)-1)),--LEFT('RESULTADOS POR JORNADA'!C12:AP12,FIND(\"-\",'RESULTADOS POR JORNADA'!C12:AP12)-1)))","v":9},{"$f":"SUM(IF(ISNUMBER(--RIGHT('RESULTADOS POR JORNADA'!C12:AP12,(LEN('RESULTADOS POR JORNADA'!C12:AP12)-FIND(\"-\",'RESULTADOS POR JORNADA'!C12:AP12)))),--RIGHT('RESULTADOS POR JORNADA'!C12:AP12,(LEN('RESULTADOS POR JORNADA'!C12:AP12)-FIND(\"-\",'RESULTADOS POR JORNADA'!C12:AP12)))))","v":10},-1,9,{"$f":"COUNTA(INDEX('RESULTADOS POR JORNADA'!$A$3:$AP$42,,ROW()))","v":9},{"$f":"COUNTIF(INDEX('Resultados Auxiliar'!$B$3:$AO$42,,ROW()-2),\"<0\")","v":3},{"$f":"COUNTIF(INDEX('Resultados Auxiliar'!$B$3:$AO$42,,ROW()-2),\"=0\")","v":1},{"$f":"COUNTIF(INDEX('Resultados Auxiliar'!$B$3:$AO$42,,ROW()-2),\">0\")","v":5},{"$f":"SUM(IF(ISNUMBER(--RIGHT(rngVisitante,(LEN(rngVisitante)-FIND(\"-\",rngVisitante)))),--RIGHT(rngVisitante,(LEN(rngVisitante)-FIND(\"-\",rngVisitante)))))","v":10},{"$f":"SUM(IF(ISNUMBER(--LEFT(rngVisitante,FIND(\"-\",rngVisitante)-1)),--LEFT(rngVisitante,FIND(\"-\",rngVisitante)-1)))","v":18},-8,10,17,6,1,10,19,28,-9,19,{"v":189911918,"d":"189,911,918"}]
[11,{"$f":"DATOS!D12","v":"SANTOS"},{"$f":"COUNTA('RESULTADOS POR JORNADA'!C13:AP13)","v":8},{"$f":"COUNTIF('Resultados Auxiliar'!B13:AP13,\">0\")","v":5},{"$f":"COUNTIF('Resultados Auxiliar'!B13:AP13,\"=0\")","v":2},{"$f":"COUNTIF('Resultados Auxiliar'!B13:AP13,\"<0\")","v":1},{"$f":"SUM(IF(ISNUMBER(--LEFT('RESULTADOS POR JORNADA'!C13:AP13,FIND(\"-\",'RESULTADOS POR JORNADA'!C13:AP13)-1)),--LEFT('RESULTADOS POR JORNADA'!C13:AP13,FIND(\"-\",'RESULTADOS POR JORNADA'!C13:AP13)-1)))","v":15},{"$f":"SUM(IF(ISNUMBER(--RIGHT('RESULTADOS POR JORNADA'!C13:AP13,(LEN('RESULTADOS POR JORNADA'!C13:AP13)-FIND(\"-\",'RESULTADOS POR JORNADA'!C13:AP13)))),--RIGHT('RESULTADOS POR JORNADA'!C13:AP13,(LEN('RESULTADOS POR JORNADA'!C13:AP13)-FIND(\"-\",'RESULTADOS POR JORNADA'!C13:AP13)))))","v":6},9,17,{"$f":"COUNTA(INDEX('RESULTADOS POR JORNADA'!$A$3:$AP$42,,ROW()))","v":9},{"$f":"COUNTIF(INDEX('Resultados Auxiliar'!$B$3:$AO$42,,ROW()-2),\"<0\")","v":1},{"$f":"COUNTIF(INDEX('Resultados Auxiliar'!$B$3:$AO$42,,ROW()-2),\"=0\")","v":2},{"$f":"COUNTIF(INDEX('Resultados Auxiliar'!$B$3:$AO$42,,ROW()-2),\">0\")","v":6},{"$f":"SUM(IF(ISNUMBER(--RIGHT(rngVisitante,(LEN(rngVisitante)-FIND(\"-\",rngVisitante)))),--RIGHT(rngVisitante,(LEN(rngVisitante)-FIND(\"-\",rngVisitante)))))","v":6},{"$f":"SUM(IF(ISNUMBER(--LEFT(rngVisitante,FIND(\"-\",rngVisitante)-1)),--LEFT(rngVisitante,FIND(\"-\",rngVisitante)-1)))","v":17},-11,5,17,6,4,7,21,23,-2,22,{"v":219982117,"d":"219,982,117"}]
[8,{"$f":"DATOS!D13","v":"TIJUANA"},{"$f":"COUNTA('RESULTADOS POR JORNADA'!C14:AP14)","v":8},{"$f":"COUNTIF('Resultados Auxiliar'!B14:AP14,\">0\")","v":6},{"$f":"COUNTIF('Resultados Auxiliar'!B14:AP14,\"=0\")","v":0},{"$f":"COUNTIF('Resultados Auxiliar'!B14:AP14,\"<0\")","v":2},{"$f":"SUM(IF(ISNUMBER(--LEFT('RESULTADOS POR JORNADA'!C14:AP14,FIND(\"-\",'RESULTADOS POR JORNADA'!C14:AP14)-1)),--LEFT('RESULTADOS POR JORNADA'!C14:AP14,FIND(\"-\",'RESULTADOS POR JORNADA'!C14:AP14)-1)))","v":17},{"$f":"SUM(IF(ISNUMBER(--RIGHT('RESULTADOS POR JORNADA'!C14:AP14,(LEN('RESULTADOS POR JORNADA'!C14:AP14)-FIND(\"-\",'RESULTADOS POR JORNADA'!C14:AP14)))),--RIGHT('RESULTADOS POR JORNADA'!C14:AP14,(LEN('RESULTADOS POR JORNADA'!C14:AP14)-FIND(\"-\",'RESULTADOS POR JORNADA'!C14:AP14)))))","v":8},9,18,{"$f":"COUNTA(INDEX('RESULTADOS POR JORNADA'!$A$3:$AP$42,,ROW()))","v":9},{"$f":"COUNTIF(INDEX('Resultados Auxiliar'!$B$3:$AO$42,,ROW()-2),\"<0\")","v":3},{"$f":"COUNTIF(INDEX('Resultados Auxiliar'!$B$3:$AO$42,,ROW()-2),\"=0\")","v":1},{"$f":"COUNTIF(INDEX('Resultados Auxiliar'!$B$3:$AO$42,,ROW()-2),\">0\")","v":5},{"$f":"SUM(IF(ISNUMBER(--RIGHT(rngVisitante,(LEN(rngVisitante)-FIND(\"-\",rngVisitante)))),--RIGHT(rngVisitante,(LEN(rngVisitante)-FIND(\"-\",rngVisitante)))))","v":8},{"$f":"SUM(IF(ISNUMBER(--LEFT(rngVisitante,FIND(\"-\",rngVisitante)-1)),--LEFT(rngVisitante,FIND(\"-\",rngVisitante)-1)))","v":12},-4,10,17,9,1,7,25,20,5,28,{"v":280052516,"d":"280,052,516"}]
[12,{"$f":"DATOS!D14","v":"LOBOS"},{"$f":"COUNTA('RESULTADOS POR JORNADA'!C15:AP15)","v":9},{"$f":"COUNTIF('Resultados Auxiliar'!B15:AP15,\">0\")","v":3},{"$f":"COUNTIF('Resultados Auxiliar'!B15:AP15,\"=0\")","v":1},{"$f":"COUNTIF('Resultados Auxiliar'!B15:AP15,\"<0\")","v":5},{"$f":"SUM(IF(ISNUMBER(--LEFT('RESULTADOS POR JORNADA'!C15:AP15,FIND(\"-\",'RESULTADOS POR JORNADA'!C15:AP15)-1)),--LEFT('RESULTADOS POR JORNADA'!C15:AP15,FIND(\"-\",'RESULTADOS POR JORNADA'!C15:AP15)-1)))","v":11},{"$f":"SUM(IF(ISNUMBER(--RIGHT('RESULTADOS POR JORNADA'!C15:AP15,(LEN('RESULTADOS POR JORNADA'!C15:AP15)-FIND(\"-\",'RESULTADOS POR JORNADA'!C15:AP15)))),--RIGHT('RESULTADOS POR JORNADA'!C15:AP15,(LEN('RESULTADOS POR JORNADA'!C15:AP15)-FIND(\"-\",'RESULTADOS POR JORNADA'!C15:AP15)))))","v":18},-7,10,{"$f":"COUNTA(INDEX('RESULTADOS POR JORNADA'!$A$3:$AP$42,,ROW()))","v":8},{"$f":"COUNTIF(INDEX('Resultados Auxiliar'!$B$3:$AO$42,,ROW()-2),\"<0\")","v":3},{"$f":"COUNTIF(INDEX('Resultados Auxiliar'!$B$3:$AO$42,,ROW()-2),\"=0\")","v":1},{"$f":"COUNTIF(INDEX('Resultados Auxiliar'!$B$3:$AO$42,,ROW()-2),\">0\")","v":4},{"$f":"SUM(IF(ISNUMBER(--RIGHT(rngVisitante,(LEN(rngVisitante)-FIND(\"-\",rngVisitante)))),--RIGHT(rngVisitante,(LEN(rngVisitante)-FIND(\"-\",rngVisitante)))))","v":6},{"$f":"SUM(IF(ISNUMBER(--LEFT(rngVisitante,FIND(\"-\",rngVisitante)-1)),--LEFT(rngVisitante,FIND(\"-\",rngVisitante)-1)))","v":16},-10,10,17,6,2,9,17,34,-17,20,{"v":199831715,"d":"199,831,715"}]
[10,{"$f":"DATOS!D15","v":"PUEBLA"},{"$f":"COUNTA('RESULTADOS POR JORNADA'!C16:AP16)","v":9},{"$f":"COUNTIF('Resultados Auxiliar'!B16:AP16,\">0\")","v":2},{"$f":"COUNTIF('Resultados Auxiliar'!B16:AP16,\"=0\")","v":5},{"$f":"COUNTIF('Resultados Auxiliar'!B16:AP16,\"<0\")","v":2},{"$f":"SUM(IF(ISNUMBER(--LEFT('RESULTADOS POR JORNADA'!C16:AP16,FIND(\"-\",'RESULTADOS POR JORNADA'!C16:AP16)-1)),--LEFT('RESULTADOS POR JORNADA'!C16:AP16,FIND(\"-\",'RESULTADOS POR JORNADA'!C16:AP16)-1)))","v":8},{"$f":"SUM(IF(ISNUMBER(--RIGHT('RESULTADOS POR JORNADA'!C16:AP16,(LEN('RESULTADOS POR JORNADA'!C16:AP16)-FIND(\"-\",'RESULTADOS POR JORNADA'!C16:AP16)))),--RIGHT('RESULTADOS POR JORNADA'!C16:AP16,(LEN('RESULTADOS POR JORNADA'!C16:AP16)-FIND(\"-\",'RESULTADOS POR JORNADA'!C16:AP16)))))","v":12},-4,11,{"$f":"COUNTA(INDEX('RESULTADOS POR JORNADA'!$A$3:$AP$42,,ROW()))","v":8},{"$f":"COUNTIF(INDEX('Resultados Auxiliar'!$B$3:$AO$42,,ROW()-2),\"<0\")","v":4},{"$f":"COUNTIF(INDEX('Resultados Auxiliar'!$B$3:$AO$42,,ROW()-2),\"=0\")","v":1},{"$f":"COUNTIF(INDEX('Resultados Auxiliar'!$B$3:$AO$42,,ROW()-2),\">0\")","v":3},{"$f":"SUM(IF(ISNUMBER(--RIGHT(rngVisitante,(LEN(rngVisitante)-FIND(\"-\",rngVisitante)))),--RIGHT(rngVisitante,(LEN(rngVisitante)-FIND(\"-\",rngVisitante)))))","v":10},{"$f":"SUM(IF(ISNUMBER(--LEFT(rngVisitante,FIND(\"-\",rngVisitante)-1)),--LEFT(rngVisitante,FIND(\"-\",rngVisitante)-1)))","v":9},1,13,17,6,6,5,18,21,-3,24,{"v":239971814,"d":"239,971,814"}]
[9,{"$f":"DATOS!D16","v":"TOLUCA"},{"$f":"COUNTA('RESULTADOS POR JORNADA'!C17:AP17)","v":8},{"$f":"COUNTIF('Resultados Auxiliar'!B17:AP17,\">0\")","v":6},{"$f":"COUNTIF('Resultados Auxiliar'!B17:AP17,\"=0\")","v":1},{"$f":"COUNTIF('Resultados Auxiliar'!B17:AP17,\"<0\")","v":1},{"$f":"SUM(IF(ISNUMBER(--LEFT('RESULTADOS POR JORNADA'!C17:AP17,FIND(\"-\",'RESULTADOS POR JORNADA'!C17:AP17)-1)),--LEFT('RESULTADOS POR JORNADA'!C17:AP17,FIND(\"-\",'RESULTADOS POR JORNADA'!C17:AP17)-1)))","v":20},{"$f":"SUM(IF(ISNUMBER(--RIGHT('RESULTADOS POR JORNADA'!C17:AP17,(LEN('RESULTADOS POR JORNADA'!C17:AP17)-FIND(\"-\",'RESULTADOS POR JORNADA'!C17:AP17)))),--RIGHT('RESULTADOS POR JORNADA'!C17:AP17,(LEN('RESULTADOS POR JORNADA'!C17:AP17)-FIND(\"-\",'RESULTADOS POR JORNADA'!C17:AP17)))))","v":6},14,19,{"$f":"COUNTA(INDEX('RESULTADOS POR JORNADA'!$A$3:$AP$42,,ROW()))","v":9},{"$f":"COUNTIF(INDEX('Resultados Auxiliar'!$B$3:$AO$42,,ROW()-2),\"<0\")","v":1},{"$f":"COUNTIF(INDEX('Resultados Auxiliar'!$B$3:$AO$42,,ROW()-2),\"=0\")","v":3},{"$f":"COUNTIF(INDEX('Resultados Auxiliar'!$B$3:$AO$42,,ROW()-2),\">0\")","v":5},{"$f":"SUM(IF(ISNUMBER(--RIGHT(rngVisitante,(LEN(rngVisitante)-FIND(\"-\",rngVisitante)))),--RIGHT(rngVisitante,(LEN(rngVisitante)-FIND(\"-\",rngVisitante)))))","v":8},{"$f":"SUM(IF(ISNUMBER(--LEFT(rngVisitante,FIND(\"-\",rngVisitante)-1)),--LEFT(rngVisitante,FIND(\"-\",rngVisitante)-1)))","v":17},-9,6,17,7,4,6,28,23,5,25,{"v":250052813,"d":"250,052,813"}]
[18,{"$f":"DATOS!D17","v":"VERACRUZ"},{"$f":"COUNTA('RESULTADOS POR JORNADA'!C18:AP18)","v":8},{"$f":"COUNTIF('Resultados Auxiliar'!B18:AP18,\">0\")","v":0},{"$f":"COUNTIF('Resultados Auxiliar'!B18:AP18,\"=0\")","v":2},{"$f":"COUNTIF('Resultados Auxiliar'!B18:AP18,\"<0\")","v":6},{"$f":"SUM(IF(ISNUMBER(--LEFT('RESULTADOS POR JORNADA'!C18:AP18,FIND(\"-\",'RESULTADOS POR JORNADA'!C18:AP18)-1)),--LEFT('RESULTADOS POR JORNADA'!C18:AP18,FIND(\"-\",'RESULTADOS POR JORNADA'!C18:AP18)-1)))","v":3},{"$f":"SUM(IF(ISNUMBER(--RIGHT('RESULTADOS POR JORNADA'!C18:AP18,(LEN('RESULTADOS POR JORNADA'!C18:AP18)-FIND(\"-\",'RESULTADOS POR JORNADA'!C18:AP18)))),--RIGHT('RESULTADOS POR JORNADA'!C18:AP18,(LEN('RESULTADOS POR JORNADA'!C18:AP18)-FIND(\"-\",'RESULTADOS POR JORNADA'!C18:AP18)))))","v":11},{"$f":"G18-H18","v":-8},{"$f":"D18*Partido_ganado+E18*Partido_empatado+F18*Partido_perdido","v":2},{"$f":"COUNTA(INDEX('RESULTADOS POR JORNADA'!$A$3:$AP$42,,ROW()))","v":9},{"$f":"COUNTIF(INDEX('Resultados Auxiliar'!$B$3:$AO$42,,ROW()-2),\"<0\")","v":0},{"$f":"COUNTIF(INDEX('Resultados Auxiliar'!$B$3:$AO$42,,ROW()-2),\"=0\")","v":2},{"$f":"COUNTIF(INDEX('Resultados Auxiliar'!$B$3:$AO$42,,ROW()-2),\">0\")","v":7},{"$f":"SUM(IF(ISNUMBER(--RIGHT(rngVisitante,(LEN(rngVisitante)-FIND(\"-\",rngVisitante)))),--RIGHT(rngVisitante,(LEN(rngVisitante)-FIND(\"-\",rngVisitante)))))","v":4},{"$f":"SUM(IF(ISNUMBER(--LEFT(rngVisitante,FIND(\"-\",rngVisitante)-1)),--LEFT(rngVisitante,FIND(\"-\",rngVisitante)-1)))","v":23},{"$f":"O18-P18","v":-19},{"$f":"L18*Partido_ganado+M18*Partido_empatado+N18*Partido_perdido","v":2},{"$f":"C18+K18","v":17},0,4,13,7,34,-27,4,{"$f":"IF(S18=0,-2000000-ROW(),Z18*10000000+Y18*10000+W18*100+(30-ROW()))","v":{"v":39730712,"d":"39,730,712"}}]
[7,{"$f":"DATOS!D18","v":"PACHUCA"},{"$f":"COUNTA('RESULTADOS POR JORNADA'!C19:AP19)","v":8},{"$f":"COUNTIF('Resultados Auxiliar'!B19:AP19,\">0\")","v":8},{"$f":"COUNTIF('Resultados Auxiliar'!B19:AP19,\"=0\")","v":0},{"$f":"COUNTIF('Resultados Auxiliar'!B19:AP19,\"<0\")","v":0},{"$f":"SUM(IF(ISNUMBER(--LEFT('RESULTADOS POR JORNADA'!C19:AP19,FIND(\"-\",'RESULTADOS POR JORNADA'!C19:AP19)-1)),--LEFT('RESULTADOS POR JORNADA'!C19:AP19,FIND(\"-\",'RESULTADOS POR JORNADA'!C19:AP19)-1)))","v":26},{"$f":"SUM(IF(ISNUMBER(--RIGHT('RESULTADOS POR JORNADA'!C19:AP19,(LEN('RESULTADOS POR JORNADA'!C19:AP19)-FIND(\"-\",'RESULTADOS POR JORNADA'!C19:AP19)))),--RIGHT('RESULTADOS POR JORNADA'!C19:AP19,(LEN('RESULTADOS POR JORNADA'!C19:AP19)-FIND(\"-\",'RESULTADOS POR JORNADA'!C19:AP19)))))","v":5},{"$f":"G19-H19","v":21},24,{"$f":"COUNTA(INDEX('RESULTADOS POR JORNADA'!$A$3:$AP$42,,ROW()))","v":9},{"$f":"COUNTIF(INDEX('Resultados Auxiliar'!$B$3:$AO$42,,ROW()-2),\"<0\")","v":0},{"$f":"COUNTIF(INDEX('Resultados Auxiliar'!$B$3:$AO$42,,ROW()-2),\"=0\")","v":4},{"$f":"COUNTIF(INDEX('Resultados Auxiliar'!$B$3:$AO$42,,ROW()-2),\">0\")","v":5},{"$f":"SUM(IF(ISNUMBER(--RIGHT(rngVisitante,(LEN(rngVisitante)-FIND(\"-\",rngVisitante)))),--RIGHT(rngVisitante,(LEN(rngVisitante)-FIND(\"-\",rngVisitante)))))","v":6},{"$f":"SUM(IF(ISNUMBER(--LEFT(rngVisitante,FIND(\"-\",rngVisitante)-1)),--LEFT(rngVisitante,FIND(\"-\",rngVisitante)-1)))","v":21},{"$f":"O19-P19","v":-15},4,17,8,4,5,32,26,6,28,{"$f":"IF(S19=0,-2000000-ROW(),Z19*10000000+Y19*10000+W19*100+(30-ROW()))","v":{"v":280063211,"d":"280,063,211"}}]
[6,{"$f":"DATOS!D19","v":"NECAXA"},{"$f":"COUNTA('RESULTADOS POR JORNADA'!C20:AP20)","v":8},{"$f":"COUNTIF('Resultados Auxiliar'!B20:AP20,\">0\")","v":3},{"$f":"COUNTIF('Resultados Auxiliar'!B20:AP20,\"=0\")","v":4},{"$f":"COUNTIF('Resultados Auxiliar'!B20:AP20,\"<0\")","v":1},{"$f":"SUM(IF(ISNUMBER(--LEFT('RESULTADOS POR JORNADA'!C20:AP20,FIND(\"-\",'RESULTADOS POR JORNADA'!C20:AP20)-1)),--LEFT('RESULTADOS POR JORNADA'!C20:AP20,FIND(\"-\",'RESULTADOS POR JORNADA'!C20:AP20)-1)))","v":12},{"$f":"SUM(IF(ISNUMBER(--RIGHT('RESULTADOS POR JORNADA'!C20:AP20,(LEN('RESULTADOS POR JORNADA'!C20:AP20)-FIND(\"-\",'RESULTADOS POR JORNADA'!C20:AP20)))),--RIGHT('RESULTADOS POR JORNADA'!C20:AP20,(LEN('RESULTADOS POR JORNADA'!C20:AP20)-FIND(\"-\",'RESULTADOS POR JORNADA'!C20:AP20)))))","v":9},{"$f":"G20-H20","v":3},13,{"$f":"COUNTA(INDEX('RESULTADOS POR JORNADA'!$A$3:$AP$42,,ROW()))","v":9},{"$f":"COUNTIF(INDEX('Resultados Auxiliar'!$B$3:$AO$42,,ROW()-2),\"<0\")","v":5},{"$f":"COUNTIF(INDEX('Resultados Auxiliar'!$B$3:$AO$42,,ROW()-2),\"=0\")","v":1},{"$f":"COUNTIF(INDEX('Resultados Auxiliar'!$B$3:$AO$42,,ROW()-2),\">0\")","v":3},{"$f":"SUM(IF(ISNUMBER(--RIGHT(rngVisitante,(LEN(rngVisitante)-FIND(\"-\",rngVisitante)))),--RIGHT(rngVisitante,(LEN(rngVisitante)-FIND(\"-\",rngVisitante)))))","v":20},{"$f":"SUM(IF(ISNUMBER(--LEFT(rngVisitante,FIND(\"-\",rngVisitante)-1)),--LEFT(rngVisitante,FIND(\"-\",rngVisitante)-1)))","v":15},{"$f":"O20-P20","v":5},16,17,8,5,4,32,24,8,29,{"$f":"IF(S20=0,-2000000-ROW(),Z20*10000000+Y20*10000+W20*100+(30-ROW()))","v":{"v":290083210,"d":"290,083,210"}}]
[19,{"$f":"DATOS!#REF!","v":{"$error":"#REF!"}},{"$f":"COUNTA('RESULTADOS POR JORNADA'!C21:AP21)","v":0},{"$f":"COUNTIF('Resultados Auxiliar'!B21:AP21,\">0\")","v":0},{"$f":"COUNTIF('Resultados Auxiliar'!B21:AP21,\"=0\")","v":0},{"$f":"COUNTIF('Resultados Auxiliar'!B21:AP21,\"<0\")","v":0},{"$f":"SUM(IF(ISNUMBER(--LEFT('RESULTADOS POR JORNADA'!C21:AP21,FIND(\"-\",'RESULTADOS POR JORNADA'!C21:AP21)-1)),--LEFT('RESULTADOS POR JORNADA'!C21:AP21,FIND(\"-\",'RESULTADOS POR JORNADA'!C21:AP21)-1)))","v":0},{"$f":"SUM(IF(ISNUMBER(--RIGHT('RESULTADOS POR JORNADA'!C21:AP21,(LEN('RESULTADOS POR JORNADA'!C21:AP21)-FIND(\"-\",'RESULTADOS POR JORNADA'!C21:AP21)))),--RIGHT('RESULTADOS POR JORNADA'!C21:AP21,(LEN('RESULTADOS POR JORNADA'!C21:AP21)-FIND(\"-\",'RESULTADOS POR JORNADA'!C21:AP21)))))","v":0},{"$f":"G21-H21","v":0},0,{"$f":"COUNTA(INDEX('RESULTADOS POR JORNADA'!$A$3:$AP$42,,ROW()))","v":0},{"$f":"COUNTIF(INDEX('Resultados Auxiliar'!$B$3:$AO$42,,ROW()-2),\"<0\")","v":0},{"$f":"COUNTIF(INDEX('Resultados Auxiliar'!$B$3:$AO$42,,ROW()-2),\"=0\")","v":0},{"$f":"COUNTIF(INDEX('Resultados Auxiliar'!$B$3:$AO$42,,ROW()-2),\">0\")","v":0},{"$f":"SUM(IF(ISNUMBER(--RIGHT(rngVisitante,(LEN(rngVisitante)-FIND(\"-\",rngVisitante)))),--RIGHT(rngVisitante,(LEN(rngVisitante)-FIND(\"-\",rngVisitante)))))","v":0},{"$f":"SUM(IF(ISNUMBER(--LEFT(rngVisitante,FIND(\"-\",rngVisitante)-1)),--LEFT(rngVisitante,FIND(\"-\",rngVisitante)-1)))","v":0},{"$f":"O21-P21","v":0},0,0,0,0,0,0,0,0,0,{"$f":"IF(S21=0,-2000000-ROW(),Z21*10000000+Y21*10000+W21*100+(30-ROW()))","v":{"v":-2000021,"d":"-2,000,021"}}]
[20,{"$f":"DATOS!#REF!","v":{"$error":"#REF!"}},{"$f":"COUNTA('RESULTADOS POR JORNADA'!C22:AP22)","v":0},{"$f":"COUNTIF('Resultados Auxiliar'!B22:AP22,\">0\")","v":0},{"$f":"COUNTIF('Resultados Auxiliar'!B22:AP22,\"=0\")","v":0},{"$f":"COUNTIF('Resultados Auxiliar'!B22:AP22,\"<0\")","v":0},{"$f":"SUM(IF(ISNUMBER(--LEFT('RESULTADOS POR JORNADA'!C22:AP22,FIND(\"-\",'RESULTADOS POR JORNADA'!C22:AP22)-1)),--LEFT('RESULTADOS POR JORNADA'!C22:AP22,FIND(\"-\",'RESULTADOS POR JORNADA'!C22:AP22)-1)))","v":0},{"$f":"SUM(IF(ISNUMBER(--RIGHT('RESULTADOS POR JORNADA'!C22:AP22,(LEN('RESULTADOS POR JORNADA'!C22:AP22)-FIND(\"-\",'RESULTADOS POR JORNADA'!C22:AP22)))),--RIGHT('RESULTADOS POR JORNADA'!C22:AP22,(LEN('RESULTADOS POR JORNADA'!C22:AP22)-FIND(\"-\",'RESULTADOS POR JORNADA'!C22:AP22)))))","v":0},{"$f":"G22-H22","v":0},0,{"$f":"COUNTA(INDEX('RESULTADOS POR JORNADA'!$A$3:$AP$42,,ROW()))","v":0},{"$f":"COUNTIF(INDEX('Resultados Auxiliar'!$B$3:$AO$42,,ROW()-2),\"<0\")","v":0},{"$f":"COUNTIF(INDEX('Resultados Auxiliar'!$B$3:$AO$42,,ROW()-2),\"=0\")","v":0},{"$f":"COUNTIF(INDEX('Resultados Auxiliar'!$B$3:$AO$42,,ROW()-2),\">0\")","v":0},{"$f":"SUM(IF(ISNUMBER(--RIGHT(rngVisitante,(LEN(rngVisitante)-FIND(\"-\",rngVisitante)))),--RIGHT(rngVisitante,(LEN(rngVisitante)-FIND(\"-\",rngVisitante)))))","v":0},{"$f":"SUM(IF(ISNUMBER(--LEFT(rngVisitante,FIND(\"-\",rngVisitante)-1)),--LEFT(rngVisitante,FIND(\"-\",rngVisitante)-1)))","v":0},{"$f":"O22-P22","v":0},0,0,0,0,0,0,0,0,0,{"$f":"IF(S22=0,-2000000-ROW(),Z22*10000000+Y22*10000+W22*100+(30-ROW()))","v":{"v":-2000022,"d":"-2,000,022"}}]
[21,{"$f":"DATOS!#REF!","v":{"$error":"#REF!"}},{"$f":"COUNTA('RESULTADOS POR JORNADA'!C23:AP23)","v":0},{"$f":"COUNTIF('Resultados Auxiliar'!B23:AP23,\">0\")","v":0},{"$f":"COUNTIF('Resultados Auxiliar'!B23:AP23,\"=0\")","v":0},{"$f":"COUNTIF('Resultados Auxiliar'!B23:AP23,\"<0\")","v":0},{"$f":"SUM(IF(ISNUMBER(--LEFT('RESULTADOS POR JORNADA'!C23:AP23,FIND(\"-\",'RESULTADOS POR JORNADA'!C23:AP23)-1)),--LEFT('RESULTADOS POR JORNADA'!C23:AP23,FIND(\"-\",'RESULTADOS POR JORNADA'!C23:AP23)-1)))","v":0},{"$f":"SUM(IF(ISNUMBER(--RIGHT('RESULTADOS POR JORNADA'!C23:AP23,(LEN('RESULTADOS POR JORNADA'!C23:AP23)-FIND(\"-\",'RESULTADOS POR JORNADA'!C23:AP23)))),--RIGHT('RESULTADOS POR JORNADA'!C23:AP23,(LEN('RESULTADOS POR JORNADA'!C23:AP23)-FIND(\"-\",'RESULTADOS POR JORNADA'!C23:AP23)))))","v":0},{"$f":"G23-H23","v":0},0,{"$f":"COUNTA(INDEX('RESULTADOS POR JORNADA'!$A$3:$AP$42,,ROW()))","v":0},{"$f":"COUNTIF(INDEX('Resultados Auxiliar'!$B$3:$AO$42,,ROW()-2),\"<0\")","v":0},{"$f":"COUNTIF(INDEX('Resultados Auxiliar'!$B$3:$AO$42,,ROW()-2),\"=0\")","v":0},{"$f":"COUNTIF(INDEX('Resultados Auxiliar'!$B$3:$AO$42,,ROW()-2),\">0\")","v":0},{"$f":"SUM(IF(ISNUMBER(--RIGHT(rngVisitante,(LEN(rngVisitante)-FIND(\"-\",rngVisitante)))),--RIGHT(rngVisitante,(LEN(rngVisitante)-FIND(\"-\",rngVisitante)))))","v":0},{"$f":"SUM(IF(ISNUMBER(--LEFT(rngVisitante,FIND(\"-\",rngVisitante)-1)),--LEFT(rngVisitante,FIND(\"-\",rngVisitante)-1)))","v":0},{"$f":"O23-P23","v":0},0,{"$f":"C23+K23","v":0},{"$f":"D23+L23","v":0},{"$f":"E23+M23","v":0},{"$f":"F23+N23","v":0},{"$f":"G23+O23","v":0},{"$f":"H23+P23","v":0},{"$f":"I23+Q23","v":0},{"$f":"J23+R23","v":0},{"$f":"IF(S23=0,-2000000-ROW(),Z23*10000000+Y23*10000+W23*100+(30-ROW()))","v":{"v":-2000023,"d":"-2,000,023"}}]
[22,{"$f":"DATOS!#REF!","v":{"$error":"#REF!"}},{"$f":"COUNTA('RESULTADOS POR JORNADA'!C24:AP24)","v":0},{"$f":"COUNTIF('Resultados Auxiliar'!B24:AP24,\">0\")","v":0},{"$f":"COUNTIF('Resultados Auxiliar'!B24:AP24,\"=0\")","v":0},{"$f":"COUNTIF('Resultados Auxiliar'!B24:AP24,\"<0\")","v":0},{"$f":"SUM(IF(ISNUMBER(--LEFT('RESULTADOS POR JORNADA'!C24:AP24,FIND(\"-\",'RESULTADOS POR JORNADA'!C24:AP24)-1)),--LEFT('RESULTADOS POR JORNADA'!C24:AP24,FIND(\"-\",'RESULTADOS POR JORNADA'!C24:AP24)-1)))","v":0},{"$f":"SUM(IF(ISNUMBER(--RIGHT('RESULTADOS POR JORNADA'!C24:AP24,(LEN('RESULTADOS POR JORNADA'!C24:AP24)-FIND(\"-\",'RESULTADOS POR JORNADA'!C24:AP24)))),--RIGHT('RESULTADOS POR JORNADA'!C24:AP24,(LEN('RESULTADOS POR JORNADA'!C24:AP24)-FIND(\"-\",'RESULTADOS POR JORNADA'!C24:AP24)))))","v":0},0,0,{"$f":"COUNTA(INDEX('RESULTADOS POR JORNADA'!$A$3:$AP$42,,ROW()))","v":0},{"$f":"COUNTIF(INDEX('Resultados Auxiliar'!$B$3:$AO$42,,ROW()-2),\"<0\")","v":0},{"$f":"COUNTIF(INDEX('Resultados Auxiliar'!$B$3:$AO$42,,ROW()-2),\"=0\")","v":0},{"$f":"COUNTIF(INDEX('Resultados Auxiliar'!$B$3:$AO$42,,ROW()-2),\">0\")","v":0},{"$f":"SUM(IF(ISNUMBER(--RIGHT(rngVisitante,(LEN(rngVisitante)-FIND(\"-\",rngVisitante)))),--RIGHT(rngVisitante,(LEN(rngVisitante)-FIND(\"-\",rngVisitante)))))","v":0},{"$f":"SUM(IF(ISNUMBER(--LEFT(rngVisitante,FIND(\"-\",rngVisitante)-1)),--LEFT(rngVisitante,FIND(\"-\",rngVisitante)-1)))","v":0},0,0,0,0,0,0,0,0,0,0,{"v":-2000024,"d":"-2,000,024"}]
[23,{"$f":"DATOS!#REF!","v":{"$error":"#REF!"}},{"$f":"COUNTA('RESULTADOS POR JORNADA'!C25:AP25)","v":0},{"$f":"COUNTIF('Resultados Auxiliar'!B25:AP25,\">0\")","v":0},{"$f":"COUNTIF('Resultados Auxiliar'!B25:AP25,\"=0\")","v":0},{"$f":"COUNTIF('Resultados Auxiliar'!B25:AP25,\"<0\")","v":0},{"$f":"SUM(IF(ISNUMBER(--LEFT('RESULTADOS POR JORNADA'!C25:AP25,FIND(\"-\",'RESULTADOS POR JORNADA'!C25:AP25)-1)),--LEFT('RESULTADOS POR JORNADA'!C25:AP25,FIND(\"-\",'RESULTADOS POR JORNADA'!C25:AP25)-1)))","v":0},{"$f":"SUM(IF(ISNUMBER(--RIGHT('RESULTADOS POR JORNADA'!C25:AP25,(LEN('RESULTADOS POR JORNADA'!C25:AP25)-FIND(\"-\",'RESULTADOS POR JORNADA'!C25:AP25)))),--RIGHT('RESULTADOS POR JORNADA'!C25:AP25,(LEN('RESULTADOS POR JORNADA'!C25:AP25)-FIND(\"-\",'RESULTADOS POR JORNADA'!C25:AP25)))))","v":0},0,0,{"$f":"COUNTA(INDEX('RESULTADOS POR JORNADA'!$A$3:$AP$42,,ROW()))","v":0},{"$f":"COUNTIF(INDEX('Resultados Auxiliar'!$B$3:$AO$42,,ROW()-2),\"<0\")","v":0},{"$f":"COUNTIF(INDEX('Resultados Auxiliar'!$B$3:$AO$42,,ROW()-2),\"=0\")","v":0},{"$f":"COUNTIF(INDEX('Resultados Auxiliar'!$B$3:$AO$42,,ROW()-2),\">0\")","v":0},{"$f":"SUM(IF(ISNUMBER(--RIGHT(rngVisitante,(LEN(rngVisitante)-FIND(\"-\",rngVisitante)))),--RIGHT(rngVisitante,(LEN(rngVisitante)-FIND(\"-\",rngVisitante)))))","v":0},{"$f":"SUM(IF(ISNUMBER(--LEFT(rngVisitante,FIND(\"-\",rngVisitante)-1)),--LEFT(rngVisitante,FIND(\"-\",rngVisitante)-1)))","v":0},0,0,0,0,0,0,0,0,0,0,{"v":-2000025,"d":"-2,000,025"}]
[24,{"$f":"DATOS!#REF!","v":{"$error":"#REF!"}},{"$f":"COUNTA('RESULTADOS POR JORNADA'!C26:AP26)","v":0},{"$f":"COUNTIF('Resultados Auxiliar'!B26:AP26,\">0\")","v":0},{"$f":"COUNTIF('Resultados Auxiliar'!B26:AP26,\"=0\")","v":0},{"$f":"COUNTIF('Resultados Auxiliar'!B26:AP26,\"<0\")","v":0},{"$f":"SUM(IF(ISNUMBER(--LEFT('RESULTADOS POR JORNADA'!C26:AP26,FIND(\"-\",'RESULTADOS POR JORNADA'!C26:AP26)-1)),--LEFT('RESULTADOS POR JORNADA'!C26:AP26,FIND(\"-\",'RESULTADOS POR JORNADA'!C26:AP26)-1)))","v":0},{"$f":"SUM(IF(ISNUMBER(--RIGHT('RESULTADOS POR JORNADA'!C26:AP26,(LEN('RESULTADOS POR JORNADA'!C26:AP26)-FIND(\"-\",'RESULTADOS POR JORNADA'!C26:AP26)))),--RIGHT('RESULTADOS POR JORNADA'!C26:AP26,(LEN('RESULTADOS POR JORNADA'!C26:AP26)-FIND(\"-\",'RESULTADOS POR JORNADA'!C26:AP26)))))","v":0},0,0,{"$f":"COUNTA(INDEX('RESULTADOS POR JORNADA'!$A$3:$AP$42,,ROW()))","v":0},{"$f":"COUNTIF(INDEX('Resultados Auxiliar'!$B$3:$AO$42,,ROW()-2),\"<0\")","v":0},{"$f":"COUNTIF(INDEX('Resultados Auxiliar'!$B$3:$AO$42,,ROW()-2),\"=0\")","v":0},{"$f":"COUNTIF(INDEX('Resultados Auxiliar'!$B$3:$AO$42,,ROW()-2),\">0\")","v":0},{"$f":"SUM(IF(ISNUMBER(--RIGHT(rngVisitante,(LEN(rngVisitante)-FIND(\"-\",rngVisitante)))),--RIGHT(rngVisitante,(LEN(rngVisitante)-FIND(\"-\",rngVisitante)))))","v":0},{"$f":"SUM(IF(ISNUMBER(--LEFT(rngVisitante,FIND(\"-\",rngVisitante)-1)),--LEFT(rngVisitante,FIND(\"-\",rngVisitante)-1)))","v":0},0,0,0,0,0,0,0,0,0,0,{"v":-2000026,"d":"-2,000,026"}]
[25,{"$f":"DATOS!#REF!","v":{"$error":"#REF!"}},{"$f":"COUNTA('RESULTADOS POR JORNADA'!C27:AP27)","v":0},{"$f":"COUNTIF('Resultados Auxiliar'!B27:AP27,\">0\")","v":0},{"$f":"COUNTIF('Resultados Auxiliar'!B27:AP27,\"=0\")","v":0},{"$f":"COUNTIF('Resultados Auxiliar'!B27:AP27,\"<0\")","v":0},{"$f":"SUM(IF(ISNUMBER(--LEFT('RESULTADOS POR JORNADA'!C27:AP27,FIND(\"-\",'RESULTADOS POR JORNADA'!C27:AP27)-1)),--LEFT('RESULTADOS POR JORNADA'!C27:AP27,FIND(\"-\",'RESULTADOS POR JORNADA'!C27:AP27)-1)))","v":0},{"$f":"SUM(IF(ISNUMBER(--RIGHT('RESULTADOS POR JORNADA'!C27:AP27,(LEN('RESULTADOS POR JORNADA'!C27:AP27)-FIND(\"-\",'RESULTADOS POR JORNADA'!C27:AP27)))),--RIGHT('RESULTADOS POR JORNADA'!C27:AP27,(LEN('RESULTADOS POR JORNADA'!C27:AP27)-FIND(\"-\",'RESULTADOS POR JORNADA'!C27:AP27)))))","v":0},0,0,{"$f":"COUNTA(INDEX('RESULTADOS POR JORNADA'!$A$3:$AP$42,,ROW()))","v":0},{"$f":"COUNTIF(INDEX('Resultados Auxiliar'!$B$3:$AO$42,,ROW()-2),\"<0\")","v":0},{"$f":"COUNTIF(INDEX('Resultados Auxiliar'!$B$3:$AO$42,,ROW()-2),\"=0\")","v":0},{"$f":"COUNTIF(INDEX('Resultados Auxiliar'!$B$3:$AO$42,,ROW()-2),\">0\")","v":0},{"$f":"SUM(IF(ISNUMBER(--RIGHT(rngVisitante,(LEN(rngVisitante)-FIND(\"-\",rngVisitante)))),--RIGHT(rngVisitante,(LEN(rngVisitante)-FIND(\"-\",rngVisitante)))))","v":0},{"$f":"SUM(IF(ISNUMBER(--LEFT(rngVisitante,FIND(\"-\",rngVisitante)-1)),--LEFT(rngVisitante,FIND(\"-\",rngVisitante)-1)))","v":0},0,0,0,0,0,0,0,0,0,0,{"v":-2000027,"d":"-2,000,027"}]
[26,{"$f":"DATOS!#REF!","v":{"$error":"#REF!"}},{"$f":"COUNTA('RESULTADOS POR JORNADA'!C28:AP28)","v":0},{"$f":"COUNTIF('Resultados Auxiliar'!B28:AP28,\">0\")","v":0},{"$f":"COUNTIF('Resultados Auxiliar'!B28:AP28,\"=0\")","v":0},{"$f":"COUNTIF('Resultados Auxiliar'!B28:AP28,\"<0\")","v":0},{"$f":"SUM(IF(ISNUMBER(--LEFT('RESULTADOS POR JORNADA'!C28:AP28,FIND(\"-\",'RESULTADOS POR JORNADA'!C28:AP28)-1)),--LEFT('RESULTADOS POR JORNADA'!C28:AP28,FIND(\"-\",'RESULTADOS POR JORNADA'!C28:AP28)-1)))","v":0},{"$f":"SUM(IF(ISNUMBER(--RIGHT('RESULTADOS POR JORNADA'!C28:AP28,(LEN('RESULTADOS POR JORNADA'!C28:AP28)-FIND(\"-\",'RESULTADOS POR JORNADA'!C28:AP28)))),--RIGHT('RESULTADOS POR JORNADA'!C28:AP28,(LEN('RESULTADOS POR JORNADA'!C28:AP28)-FIND(\"-\",'RESULTADOS POR JORNADA'!C28:AP28)))))","v":0},0,0,{"$f":"COUNTA(INDEX('RESULTADOS POR JORNADA'!$A$3:$AP$42,,ROW()))","v":0},{"$f":"COUNTIF(INDEX('Resultados Auxiliar'!$B$3:$AO$42,,ROW()-2),\"<0\")","v":0},{"$f":"COUNTIF(INDEX('Resultados Auxiliar'!$B$3:$AO$42,,ROW()-2),\"=0\")","v":0},{"$f":"COUNTIF(INDEX('Resultados Auxiliar'!$B$3:$AO$42,,ROW()-2),\">0\")","v":0},{"$f":"SUM(IF(ISNUMBER(--RIGHT(rngVisitante,(LEN(rngVisitante)-FIND(\"-\",rngVisitante)))),--RIGHT(rngVisitante,(LEN(rngVisitante)-FIND(\"-\",rngVisitante)))))","v":0},{"$f":"SUM(IF(ISNUMBER(--LEFT(rngVisitante,FIND(\"-\",rngVisitante)-1)),--LEFT(rngVisitante,FIND(\"-\",rngVisitante)-1)))","v":0},0,0,0,0,0,0,0,0,0,0,{"v":-2000028,"d":"-2,000,028"}]
[27,{"$f":"DATOS!#REF!","v":{"$error":"#REF!"}},{"$f":"COUNTA('RESULTADOS POR JORNADA'!C29:AP29)","v":0},{"$f":"COUNTIF('Resultados Auxiliar'!B29:AP29,\">0\")","v":0},{"$f":"COUNTIF('Resultados Auxiliar'!B29:AP29,\"=0\")","v":0},{"$f":"COUNTIF('Resultados Auxiliar'!B29:AP29,\"<0\")","v":0},{"$f":"SUM(IF(ISNUMBER(--LEFT('RESULTADOS POR JORNADA'!C29:AP29,FIND(\"-\",'RESULTADOS POR JORNADA'!C29:AP29)-1)),--LEFT('RESULTADOS POR JORNADA'!C29:AP29,FIND(\"-\",'RESULTADOS POR JORNADA'!C29:AP29)-1)))","v":0},{"$f":"SUM(IF(ISNUMBER(--RIGHT('RESULTADOS POR JORNADA'!C29:AP29,(LEN('RESULTADOS POR JORNADA'!C29:AP29)-FIND(\"-\",'RESULTADOS POR JORNADA'!C29:AP29)))),--RIGHT('RESULTADOS POR JORNADA'!C29:AP29,(LEN('RESULTADOS POR JORNADA'!C29:AP29)-FIND(\"-\",'RESULTADOS POR JORNADA'!C29:AP29)))))","v":0},0,0,{"$f":"COUNTA(INDEX('RESULTADOS POR JORNADA'!$A$3:$AP$42,,ROW()))","v":0},{"$f":"COUNTIF(INDEX('Resultados Auxiliar'!$B$3:$AO$42,,ROW()-2),\"<0\")","v":0},{"$f":"COUNTIF(INDEX('Resultados Auxiliar'!$B$3:$AO$42,,ROW()-2),\"=0\")","v":0},{"$f":"COUNTIF(INDEX('Resultados Auxiliar'!$B$3:$AO$42,,ROW()-2),\">0\")","v":0},{"$f":"SUM(IF(ISNUMBER(--RIGHT(rngVisitante,(LEN(rngVisitante)-FIND(\"-\",rngVisitante)))),--RIGHT(rngVisitante,(LEN(rngVisitante)-FIND(\"-\",rngVisitante)))))","v":0},{"$f":"SUM(IF(ISNUMBER(--LEFT(rngVisitante,FIND(\"-\",rngVisitante)-1)),--LEFT(rngVisitante,FIND(\"-\",rngVisitante)-1)))","v":0},0,0,0,0,0,0,0,0,0,0,{"v":-2000029,"d":"-2,000,029"}]
[28,{"$f":"DATOS!#REF!","v":{"$error":"#REF!"}},{"$f":"COUNTA('RESULTADOS POR JORNADA'!C30:AP30)","v":0},{"$f":"COUNTIF('Resultados Auxiliar'!B30:AP30,\">0\")","v":0},{"$f":"COUNTIF('Resultados Auxiliar'!B30:AP30,\"=0\")","v":0},{"$f":"COUNTIF('Resultados Auxiliar'!B30:AP30,\"<0\")","v":0},{"$f":"SUM(IF(ISNUMBER(--LEFT('RESULTADOS POR JORNADA'!C30:AP30,FIND(\"-\",'RESULTADOS POR JORNADA'!C30:AP30)-1)),--LEFT('RESULTADOS POR JORNADA'!C30:AP30,FIND(\"-\",'RESULTADOS POR JORNADA'!C30:AP30)-1)))","v":0},{"$f":"SUM(IF(ISNUMBER(--RIGHT('RESULTADOS POR JORNADA'!C30:AP30,(LEN('RESULTADOS POR JORNADA'!C30:AP30)-FIND(\"-\",'RESULTADOS POR JORNADA'!C30:AP30)))),--RIGHT('RESULTADOS POR JORNADA'!C30:AP30,(LEN('RESULTADOS POR JORNADA'!C30:AP30)-FIND(\"-\",'RESULTADOS POR JORNADA'!C30:AP30)))))","v":0},0,0,{"$f":"COUNTA(INDEX('RESULTADOS POR JORNADA'!$A$3:$AP$42,,ROW()))","v":0},{"$f":"COUNTIF(INDEX('Resultados Auxiliar'!$B$3:$AO$42,,ROW()-2),\"<0\")","v":0},{"$f":"COUNTIF(INDEX('Resultados Auxiliar'!$B$3:$AO$42,,ROW()-2),\"=0\")","v":0},{"$f":"COUNTIF(INDEX('Resultados Auxiliar'!$B$3:$AO$42,,ROW()-2),\">0\")","v":0},{"$f":"SUM(IF(ISNUMBER(--RIGHT(rngVisitante,(LEN(rngVisitante)-FIND(\"-\",rngVisitante)))),--RIGHT(rngVisitante,(LEN(rngVisitante)-FIND(\"-\",rngVisitante)))))","v":0},{"$f":"SUM(IF(ISNUMBER(--LEFT(rngVisitante,FIND(\"-\",rngVisitante)-1)),--LEFT(rngVisitante,FIND(\"-\",rngVisitante)-1)))","v":0},0,0,0,0,0,0,0,0,0,0,{"v":-2000030,"d":"-2,000,030"}]
[29,{"$f":"DATOS!#REF!","v":{"$error":"#REF!"}},{"$f":"COUNTA('RESULTADOS POR JORNADA'!C31:AP31)","v":0},{"$f":"COUNTIF('Resultados Auxiliar'!B31:AP31,\">0\")","v":0},{"$f":"COUNTIF('Resultados Auxiliar'!B31:AP31,\"=0\")","v":0},{"$f":"COUNTIF('Resultados Auxiliar'!B31:AP31,\"<0\")","v":0},{"$f":"SUM(IF(ISNUMBER(--LEFT('RESULTADOS POR JORNADA'!C31:AP31,FIND(\"-\",'RESULTADOS POR JORNADA'!C31:AP31)-1)),--LEFT('RESULTADOS POR JORNADA'!C31:AP31,FIND(\"-\",'RESULTADOS POR JORNADA'!C31:AP31)-1)))","v":0},{"$f":"SUM(IF(ISNUMBER(--RIGHT('RESULTADOS POR JORNADA'!C31:AP31,(LEN('RESULTADOS POR JORNADA'!C31:AP31)-FIND(\"-\",'RESULTADOS POR JORNADA'!C31:AP31)))),--RIGHT('RESULTADOS POR JORNADA'!C31:AP31,(LEN('RESULTADOS POR JORNADA'!C31:AP31)-FIND(\"-\",'RESULTADOS POR JORNADA'!C31:AP31)))))","v":0},0,0,{"$f":"COUNTA(INDEX('RESULTADOS POR JORNADA'!$A$3:$AP$42,,ROW()))","v":0},{"$f":"COUNTIF(INDEX('Resultados Auxiliar'!$B$3:$AO$42,,ROW()-2),\"<0\")","v":0},{"$f":"COUNTIF(INDEX('Resultados Auxiliar'!$B$3:$AO$42,,ROW()-2),\"=0\")","v":0},{"$f":"COUNTIF(INDEX('Resultados Auxiliar'!$B$3:$AO$42,,ROW()-2),\">0\")","v":0},{"$f":"SUM(IF(ISNUMBER(--RIGHT(rngVisitante,(LEN(rngVisitante)-FIND(\"-\",rngVisitante)))),--RIGHT(rngVisitante,(LEN(rngVisitante)-FIND(\"-\",rngVisitante)))))","v":0},{"$f":"SUM(IF(ISNUMBER(--LEFT(rngVisitante,FIND(\"-\",rngVisitante)-1)),--LEFT(rngVisitante,FIND(\"-\",rngVisitante)-1)))","v":0},0,0,0,0,0,0,0,0,0,0,{"v":-2000031,"d":"-2,000,031"}]
[30,{"$f":"DATOS!#REF!","v":{"$error":"#REF!"}},{"$f":"COUNTA('RESULTADOS POR JORNADA'!C32:AP32)","v":0},{"$f":"COUNTIF('Resultados Auxiliar'!B32:AP32,\">0\")","v":0},{"$f":"COUNTIF('Resultados Auxiliar'!B32:AP32,\"=0\")","v":0},{"$f":"COUNTIF('Resultados Auxiliar'!B32:AP32,\"<0\")","v":0},{"$f":"SUM(IF(ISNUMBER(--LEFT('RESULTADOS POR JORNADA'!C32:AP32,FIND(\"-\",'RESULTADOS POR JORNADA'!C32:AP32)-1)),--LEFT('RESULTADOS POR JORNADA'!C32:AP32,FIND(\"-\",'RESULTADOS POR JORNADA'!C32:AP32)-1)))","v":0},{"$f":"SUM(IF(ISNUMBER(--RIGHT('RESULTADOS POR JORNADA'!C32:AP32,(LEN('RESULTADOS POR JORNADA'!C32:AP32)-FIND(\"-\",'RESULTADOS POR JORNADA'!C32:AP32)))),--RIGHT('RESULTADOS POR JORNADA'!C32:AP32,(LEN('RESULTADOS POR JORNADA'!C32:AP32)-FIND(\"-\",'RESULTADOS POR JORNADA'!C32:AP32)))))","v":0},0,0,{"$f":"COUNTA(INDEX('RESULTADOS POR JORNADA'!$A$3:$AP$42,,ROW()))","v":0},{"$f":"COUNTIF(INDEX('Resultados Auxiliar'!$B$3:$AO$42,,ROW()-2),\"<0\")","v":0},{"$f":"COUNTIF(INDEX('Resultados Auxiliar'!$B$3:$AO$42,,ROW()-2),\"=0\")","v":0},{"$f":"COUNTIF(INDEX('Resultados Auxiliar'!$B$3:$AO$42,,ROW()-2),\">0\")","v":0},{"$f":"SUM(IF(ISNUMBER(--RIGHT(rngVisitante,(LEN(rngVisitante)-FIND(\"-\",rngVisitante)))),--RIGHT(rngVisitante,(LEN(rngVisitante)-FIND(\"-\",rngVisitante)))))","v":0},{"$f":"SUM(IF(ISNUMBER(--LEFT(rngVisitante,FIND(\"-\",rngVisitante)-1)),--LEFT(rngVisitante,FIND(\"-\",rngVisitante)-1)))","v":0},0,0,0,0,0,0,0,0,0,0,{"v":-2000032,"d":"-2,000,032"}]
[31,{"$f":"DATOS!#REF!","v":{"$error":"#REF!"}},{"$f":"COUNTA('RESULTADOS POR JORNADA'!C33:AP33)","v":0},{"$f":"COUNTIF('Resultados Auxiliar'!B33:AP33,\">0\")","v":0},{"$f":"COUNTIF('Resultados Auxiliar'!B33:AP33,\"=0\")","v":0},{"$f":"COUNTIF('Resultados Auxiliar'!B33:AP33,\"<0\")","v":0},{"$f":"SUM(IF(ISNUMBER(--LEFT('RESULTADOS POR JORNADA'!C33:AP33,FIND(\"-\",'RESULTADOS POR JORNADA'!C33:AP33)-1)),--LEFT('RESULTADOS POR JORNADA'!C33:AP33,FIND(\"-\",'RESULTADOS POR JORNADA'!C33:AP33)-1)))","v":0},{"$f":"SUM(IF(ISNUMBER(--RIGHT('RESULTADOS POR JORNADA'!C33:AP33,(LEN('RESULTADOS POR JORNADA'!C33:AP33)-FIND(\"-\",'RESULTADOS POR JORNADA'!C33:AP33)))),--RIGHT('RESULTADOS POR JORNADA'!C33:AP33,(LEN('RESULTADOS POR JORNADA'!C33:AP33)-FIND(\"-\",'RESULTADOS POR JORNADA'!C33:AP33)))))","v":0},0,0,{"$f":"COUNTA(INDEX('RESULTADOS POR JORNADA'!$A$3:$AP$42,,ROW()))","v":0},{"$f":"COUNTIF(INDEX('Resultados Auxiliar'!$B$3:$AO$42,,ROW()-2),\"<0\")","v":0},{"$f":"COUNTIF(INDEX('Resultados Auxiliar'!$B$3:$AO$42,,ROW()-2),\"=0\")","v":0},{"$f":"COUNTIF(INDEX('Resultados Auxiliar'!$B$3:$AO$42,,ROW()-2),\">0\")","v":0},{"$f":"SUM(IF(ISNUMBER(--RIGHT(rngVisitante,(LEN(rngVisitante)-FIND(\"-\",rngVisitante)))),--RIGHT(rngVisitante,(LEN(rngVisitante)-FIND(\"-\",rngVisitante)))))","v":0},{"$f":"SUM(IF(ISNUMBER(--LEFT(rngVisitante,FIND(\"-\",rngVisitante)-1)),--LEFT(rngVisitante,FIND(\"-\",rngVisitante)-1)))","v":0},0,0,0,0,0,0,0,0,0,0,{"v":-2000033,"d":"-2,000,033"}]
[32,{"$f":"DATOS!#REF!","v":{"$error":"#REF!"}},{"$f":"COUNTA('RESULTADOS POR JORNADA'!C34:AP34)","v":0},{"$f":"COUNTIF('Resultados Auxiliar'!B34:AP34,\">0\")","v":0},{"$f":"COUNTIF('Resultados Auxiliar'!B34:AP34,\"=0\")","v":0},{"$f":"COUNTIF('Resultados Auxiliar'!B34:AP34,\"<0\")","v":0},{"$f":"SUM(IF(ISNUMBER(--LEFT('RESULTADOS POR JORNADA'!C34:AP34,FIND(\"-\",'RESULTADOS POR JORNADA'!C34:AP34)-1)),--LEFT('RESULTADOS POR JORNADA'!C34:AP34,FIND(\"-\",'RESULTADOS POR JORNADA'!C34:AP34)-1)))","v":0},{"$f":"SUM(IF(ISNUMBER(--RIGHT('RESULTADOS POR JORNADA'!C34:AP34,(LEN('RESULTADOS POR JORNADA'!C34:AP34)-FIND(\"-\",'RESULTADOS POR JORNADA'!C34:AP34)))),--RIGHT('RESULTADOS POR JORNADA'!C34:AP34,(LEN('RESULTADOS POR JORNADA'!C34:AP34)-FIND(\"-\",'RESULTADOS POR JORNADA'!C34:AP34)))))","v":0},0,0,{"$f":"COUNTA(INDEX('RESULTADOS POR JORNADA'!$A$3:$AP$42,,ROW()))","v":0},{"$f":"COUNTIF(INDEX('Resultados Auxiliar'!$B$3:$AO$42,,ROW()-2),\"<0\")","v":0},{"$f":"COUNTIF(INDEX('Resultados Auxiliar'!$B$3:$AO$42,,ROW()-2),\"=0\")","v":0},{"$f":"COUNTIF(INDEX('Resultados Auxiliar'!$B$3:$AO$42,,ROW()-2),\">0\")","v":0},{"$f":"SUM(IF(ISNUMBER(--RIGHT(rngVisitante,(LEN(rngVisitante)-FIND(\"-\",rngVisitante)))),--RIGHT(rngVisitante,(LEN(rngVisitante)-FIND(\"-\",rngVisitante)))))","v":0},{"$f":"SUM(IF(ISNUMBER(--LEFT(rngVisitante,FIND(\"-\",rngVisitante)-1)),--LEFT(rngVisitante,FIND(\"-\",rngVisitante)-1)))","v":0},0,0,0,0,0,0,0,0,0,0,{"v":-2000034,"d":"-2,000,034"}]
[33,{"$f":"DATOS!#REF!","v":{"$error":"#REF!"}},{"$f":"COUNTA('RESULTADOS POR JORNADA'!C35:AP35)","v":0},{"$f":"COUNTIF('Resultados Auxiliar'!B35:AP35,\">0\")","v":0},{"$f":"COUNTIF('Resultados Auxiliar'!B35:AP35,\"=0\")","v":0},{"$f":"COUNTIF('Resultados Auxiliar'!B35:AP35,\"<0\")","v":0},{"$f":"SUM(IF(ISNUMBER(--LEFT('RESULTADOS POR JORNADA'!C35:AP35,FIND(\"-\",'RESULTADOS POR JORNADA'!C35:AP35)-1)),--LEFT('RESULTADOS POR JORNADA'!C35:AP35,FIND(\"-\",'RESULTADOS POR JORNADA'!C35:AP35)-1)))","v":0},{"$f":"SUM(IF(ISNUMBER(--RIGHT('RESULTADOS POR JORNADA'!C35:AP35,(LEN('RESULTADOS POR JORNADA'!C35:AP35)-FIND(\"-\",'RESULTADOS POR JORNADA'!C35:AP35)))),--RIGHT('RESULTADOS POR JORNADA'!C35:AP35,(LEN('RESULTADOS POR JORNADA'!C35:AP35)-FIND(\"-\",'RESULTADOS POR JORNADA'!C35:AP35)))))","v":0},0,0,{"$f":"COUNTA(INDEX('RESULTADOS POR JORNADA'!$A$3:$AP$42,,ROW()))","v":0},{"$f":"COUNTIF(INDEX('Resultados Auxiliar'!$B$3:$AO$42,,ROW()-2),\"<0\")","v":0},{"$f":"COUNTIF(INDEX('Resultados Auxiliar'!$B$3:$AO$42,,ROW()-2),\"=0\")","v":0},{"$f":"COUNTIF(INDEX('Resultados Auxiliar'!$B$3:$AO$42,,ROW()-2),\">0\")","v":0},{"$f":"SUM(IF(ISNUMBER(--RIGHT(rngVisitante,(LEN(rngVisitante)-FIND(\"-\",rngVisitante)))),--RIGHT(rngVisitante,(LEN(rngVisitante)-FIND(\"-\",rngVisitante)))))","v":0},{"$f":"SUM(IF(ISNUMBER(--LEFT(rngVisitante,FIND(\"-\",rngVisitante)-1)),--LEFT(rngVisitante,FIND(\"-\",rngVisitante)-1)))","v":0},0,0,0,0,0,0,0,0,0,0,{"v":-2000035,"d":"-2,000,035"}]
[34,{"$f":"DATOS!#REF!","v":{"$error":"#REF!"}},{"$f":"COUNTA('RESULTADOS POR JORNADA'!C36:AP36)","v":0},{"$f":"COUNTIF('Resultados Auxiliar'!B36:AP36,\">0\")","v":0},{"$f":"COUNTIF('Resultados Auxiliar'!B36:AP36,\"=0\")","v":0},{"$f":"COUNTIF('Resultados Auxiliar'!B36:AP36,\"<0\")","v":0},{"$f":"SUM(IF(ISNUMBER(--LEFT('RESULTADOS POR JORNADA'!C36:AP36,FIND(\"-\",'RESULTADOS POR JORNADA'!C36:AP36)-1)),--LEFT('RESULTADOS POR JORNADA'!C36:AP36,FIND(\"-\",'RESULTADOS POR JORNADA'!C36:AP36)-1)))","v":0},{"$f":"SUM(IF(ISNUMBER(--RIGHT('RESULTADOS POR JORNADA'!C36:AP36,(LEN('RESULTADOS POR JORNADA'!C36:AP36)-FIND(\"-\",'RESULTADOS POR JORNADA'!C36:AP36)))),--RIGHT('RESULTADOS POR JORNADA'!C36:AP36,(LEN('RESULTADOS POR JORNADA'!C36:AP36)-FIND(\"-\",'RESULTADOS POR JORNADA'!C36:AP36)))))","v":0},0,0,{"$f":"COUNTA(INDEX('RESULTADOS POR JORNADA'!$A$3:$AP$42,,ROW()))","v":0},{"$f":"COUNTIF(INDEX('Resultados Auxiliar'!$B$3:$AO$42,,ROW()-2),\"<0\")","v":0},{"$f":"COUNTIF(INDEX('Resultados Auxiliar'!$B$3:$AO$42,,ROW()-2),\"=0\")","v":0},{"$f":"COUNTIF(INDEX('Resultados Auxiliar'!$B$3:$AO$42,,ROW()-2),\">0\")","v":0},{"$f":"SUM(IF(ISNUMBER(--RIGHT(rngVisitante,(LEN(rngVisitante)-FIND(\"-\",rngVisitante)))),--RIGHT(rngVisitante,(LEN(rngVisitante)-FIND(\"-\",rngVisitante)))))","v":0},{"$f":"SUM(IF(ISNUMBER(--LEFT(rngVisitante,FIND(\"-\",rngVisitante)-1)),--LEFT(rngVisitante,FIND(\"-\",rngVisitante)-1)))","v":0},0,0,0,0,0,0,0,0,0,0,{"v":-2000036,"d":"-2,000,036"}]
[35,{"$f":"DATOS!#REF!","v":{"$error":"#REF!"}},{"$f":"COUNTA('RESULTADOS POR JORNADA'!C37:AP37)","v":0},{"$f":"COUNTIF('Resultados Auxiliar'!B37:AP37,\">0\")","v":0},{"$f":"COUNTIF('Resultados Auxiliar'!B37:AP37,\"=0\")","v":0},{"$f":"COUNTIF('Resultados Auxiliar'!B37:AP37,\"<0\")","v":0},{"$f":"SUM(IF(ISNUMBER(--LEFT('RESULTADOS POR JORNADA'!C37:AP37,FIND(\"-\",'RESULTADOS POR JORNADA'!C37:AP37)-1)),--LEFT('RESULTADOS POR JORNADA'!C37:AP37,FIND(\"-\",'RESULTADOS POR JORNADA'!C37:AP37)-1)))","v":0},{"$f":"SUM(IF(ISNUMBER(--RIGHT('RESULTADOS POR JORNADA'!C37:AP37,(LEN('RESULTADOS POR JORNADA'!C37:AP37)-FIND(\"-\",'RESULTADOS POR JORNADA'!C37:AP37)))),--RIGHT('RESULTADOS POR JORNADA'!C37:AP37,(LEN('RESULTADOS POR JORNADA'!C37:AP37)-FIND(\"-\",'RESULTADOS POR JORNADA'!C37:AP37)))))","v":0},0,0,{"$f":"COUNTA(INDEX('RESULTADOS POR JORNADA'!$A$3:$AP$42,,ROW()))","v":0},{"$f":"COUNTIF(INDEX('Resultados Auxiliar'!$B$3:$AO$42,,ROW()-2),\"<0\")","v":0},{"$f":"COUNTIF(INDEX('Resultados Auxiliar'!$B$3:$AO$42,,ROW()-2),\"=0\")","v":0},{"$f":"COUNTIF(INDEX('Resultados Auxiliar'!$B$3:$AO$42,,ROW()-2),\">0\")","v":0},{"$f":"SUM(IF(ISNUMBER(--RIGHT(rngVisitante,(LEN(rngVisitante)-FIND(\"-\",rngVisitante)))),--RIGHT(rngVisitante,(LEN(rngVisitante)-FIND(\"-\",rngVisitante)))))","v":0},{"$f":"SUM(IF(ISNUMBER(--LEFT(rngVisitante,FIND(\"-\",rngVisitante)-1)),--LEFT(rngVisitante,FIND(\"-\",rngVisitante)-1)))","v":0},0,0,0,0,0,0,0,0,0,0,{"v":-2000037,"d":"-2,000,037"}]
[36,{"$f":"DATOS!#REF!","v":{"$error":"#REF!"}},{"$f":"COUNTA('RESULTADOS POR JORNADA'!C38:AP38)","v":0},{"$f":"COUNTIF('Resultados Auxiliar'!B38:AP38,\">0\")","v":0},{"$f":"COUNTIF('Resultados Auxiliar'!B38:AP38,\"=0\")","v":0},{"$f":"COUNTIF('Resultados Auxiliar'!B38:AP38,\"<0\")","v":0},{"$f":"SUM(IF(ISNUMBER(--LEFT('RESULTADOS POR JORNADA'!C38:AP38,FIND(\"-\",'RESULTADOS POR JORNADA'!C38:AP38)-1)),--LEFT('RESULTADOS POR JORNADA'!C38:AP38,FIND(\"-\",'RESULTADOS POR JORNADA'!C38:AP38)-1)))","v":0},{"$f":"SUM(IF(ISNUMBER(--RIGHT('RESULTADOS POR JORNADA'!C38:AP38,(LEN('RESULTADOS POR JORNADA'!C38:AP38)-FIND(\"-\",'RESULTADOS POR JORNADA'!C38:AP38)))),--RIGHT('RESULTADOS POR JORNADA'!C38:AP38,(LEN('RESULTADOS POR JORNADA'!C38:AP38)-FIND(\"-\",'RESULTADOS POR JORNADA'!C38:AP38)))))","v":0},0,0,{"$f":"COUNTA(INDEX('RESULTADOS POR JORNADA'!$A$3:$AP$42,,ROW()))","v":0},{"$f":"COUNTIF(INDEX('Resultados Auxiliar'!$B$3:$AO$42,,ROW()-2),\"<0\")","v":0},{"$f":"COUNTIF(INDEX('Resultados Auxiliar'!$B$3:$AO$42,,ROW()-2),\"=0\")","v":0},{"$f":"COUNTIF(INDEX('Resultados Auxiliar'!$B$3:$AO$42,,ROW()-2),\">0\")","v":0},{"$f":"SUM(IF(ISNUMBER(--RIGHT(rngVisitante,(LEN(rngVisitante)-FIND(\"-\",rngVisitante)))),--RIGHT(rngVisitante,(LEN(rngVisitante)-FIND(\"-\",rngVisitante)))))","v":0},{"$f":"SUM(IF(ISNUMBER(--LEFT(rngVisitante,FIND(\"-\",rngVisitante)-1)),--LEFT(rngVisitante,FIND(\"-\",rngVisitante)-1)))","v":0},0,0,0,0,0,0,0,0,0,0,{"v":-2000038,"d":"-2,000,038"}]
[37,{"$f":"DATOS!#REF!","v":{"$error":"#REF!"}},{"$f":"COUNTA('RESULTADOS POR JORNADA'!C39:AP39)","v":0},{"$f":"COUNTIF('Resultados Auxiliar'!B39:AP39,\">0\")","v":0},{"$f":"COUNTIF('Resultados Auxiliar'!B39:AP39,\"=0\")","v":0},{"$f":"COUNTIF('Resultados Auxiliar'!B39:AP39,\"<0\")","v":0},{"$f":"SUM(IF(ISNUMBER(--LEFT('RESULTADOS POR JORNADA'!C39:AP39,FIND(\"-\",'RESULTADOS POR JORNADA'!C39:AP39)-1)),--LEFT('RESULTADOS POR JORNADA'!C39:AP39,FIND(\"-\",'RESULTADOS POR JORNADA'!C39:AP39)-1)))","v":0},{"$f":"SUM(IF(ISNUMBER(--RIGHT('RESULTADOS POR JORNADA'!C39:AP39,(LEN('RESULTADOS POR JORNADA'!C39:AP39)-FIND(\"-\",'RESULTADOS POR JORNADA'!C39:AP39)))),--RIGHT('RESULTADOS POR JORNADA'!C39:AP39,(LEN('RESULTADOS POR JORNADA'!C39:AP39)-FIND(\"-\",'RESULTADOS POR JORNADA'!C39:AP39)))))","v":0},0,0,{"$f":"COUNTA(INDEX('RESULTADOS POR JORNADA'!$A$3:$AP$42,,ROW()))","v":0},{"$f":"COUNTIF(INDEX('Resultados Auxiliar'!$B$3:$AO$42,,ROW()-2),\"<0\")","v":0},{"$f":"COUNTIF(INDEX('Resultados Auxiliar'!$B$3:$AO$42,,ROW()-2),\"=0\")","v":0},{"$f":"COUNTIF(INDEX('Resultados Auxiliar'!$B$3:$AO$42,,ROW()-2),\">0\")","v":0},{"$f":"SUM(IF(ISNUMBER(--RIGHT(rngVisitante,(LEN(rngVisitante)-FIND(\"-\",rngVisitante)))),--RIGHT(rngVisitante,(LEN(rngVisitante)-FIND(\"-\",rngVisitante)))))","v":0},{"$f":"SUM(IF(ISNUMBER(--LEFT(rngVisitante,FIND(\"-\",rngVisitante)-1)),--LEFT(rngVisitante,FIND(\"-\",rngVisitante)-1)))","v":0},0,0,0,0,0,0,0,0,0,0,{"v":-2000039,"d":"-2,000,039"}]
[38,{"$f":"DATOS!#REF!","v":{"$error":"#REF!"}},{"$f":"COUNTA('RESULTADOS POR JORNADA'!C40:AP40)","v":0},{"$f":"COUNTIF('Resultados Auxiliar'!B40:AP40,\">0\")","v":0},{"$f":"COUNTIF('Resultados Auxiliar'!B40:AP40,\"=0\")","v":0},{"$f":"COUNTIF('Resultados Auxiliar'!B40:AP40,\"<0\")","v":0},{"$f":"SUM(IF(ISNUMBER(--LEFT('RESULTADOS POR JORNADA'!C40:AP40,FIND(\"-\",'RESULTADOS POR JORNADA'!C40:AP40)-1)),--LEFT('RESULTADOS POR JORNADA'!C40:AP40,FIND(\"-\",'RESULTADOS POR JORNADA'!C40:AP40)-1)))","v":0},{"$f":"SUM(IF(ISNUMBER(--RIGHT('RESULTADOS POR JORNADA'!C40:AP40,(LEN('RESULTADOS POR JORNADA'!C40:AP40)-FIND(\"-\",'RESULTADOS POR JORNADA'!C40:AP40)))),--RIGHT('RESULTADOS POR JORNADA'!C40:AP40,(LEN('RESULTADOS POR JORNADA'!C40:AP40)-FIND(\"-\",'RESULTADOS POR JORNADA'!C40:AP40)))))","v":0},0,0,{"$f":"COUNTA(INDEX('RESULTADOS POR JORNADA'!$A$3:$AP$42,,ROW()))","v":0},{"$f":"COUNTIF(INDEX('Resultados Auxiliar'!$B$3:$AO$42,,ROW()-2),\"<0\")","v":0},{"$f":"COUNTIF(INDEX('Resultados Auxiliar'!$B$3:$AO$42,,ROW()-2),\"=0\")","v":0},{"$f":"COUNTIF(INDEX('Resultados Auxiliar'!$B$3:$AO$42,,ROW()-2),\">0\")","v":0},{"$f":"SUM(IF(ISNUMBER(--RIGHT(rngVisitante,(LEN(rngVisitante)-FIND(\"-\",rngVisitante)))),--RIGHT(rngVisitante,(LEN(rngVisitante)-FIND(\"-\",rngVisitante)))))","v":0},{"$f":"SUM(IF(ISNUMBER(--LEFT(rngVisitante,FIND(\"-\",rngVisitante)-1)),--LEFT(rngVisitante,FIND(\"-\",rngVisitante)-1)))","v":0},0,0,0,0,0,0,0,0,0,0,{"v":-2000040,"d":"-2,000,040"}]
[39,{"$f":"DATOS!#REF!","v":{"$error":"#REF!"}},{"$f":"COUNTA('RESULTADOS POR JORNADA'!C41:AP41)","v":0},{"$f":"COUNTIF('Resultados Auxiliar'!B41:AP41,\">0\")","v":0},{"$f":"COUNTIF('Resultados Auxiliar'!B41:AP41,\"=0\")","v":0},{"$f":"COUNTIF('Resultados Auxiliar'!B41:AP41,\"<0\")","v":0},{"$f":"SUM(IF(ISNUMBER(--LEFT('RESULTADOS POR JORNADA'!C41:AP41,FIND(\"-\",'RESULTADOS POR JORNADA'!C41:AP41)-1)),--LEFT('RESULTADOS POR JORNADA'!C41:AP41,FIND(\"-\",'RESULTADOS POR JORNADA'!C41:AP41)-1)))","v":0},{"$f":"SUM(IF(ISNUMBER(--RIGHT('RESULTADOS POR JORNADA'!C41:AP41,(LEN('RESULTADOS POR JORNADA'!C41:AP41)-FIND(\"-\",'RESULTADOS POR JORNADA'!C41:AP41)))),--RIGHT('RESULTADOS POR JORNADA'!C41:AP41,(LEN('RESULTADOS POR JORNADA'!C41:AP41)-FIND(\"-\",'RESULTADOS POR JORNADA'!C41:AP41)))))","v":0},0,0,{"$f":"COUNTA(INDEX('RESULTADOS POR JORNADA'!$A$3:$AP$42,,ROW()))","v":0},{"$f":"COUNTIF(INDEX('Resultados Auxiliar'!$B$3:$AO$42,,ROW()-2),\"<0\")","v":0},{"$f":"COUNTIF(INDEX('Resultados Auxiliar'!$B$3:$AO$42,,ROW()-2),\"=0\")","v":0},{"$f":"COUNTIF(INDEX('Resultados Auxiliar'!$B$3:$AO$42,,ROW()-2),\">0\")","v":0},{"$f":"SUM(IF(ISNUMBER(--RIGHT(rngVisitante,(LEN(rngVisitante)-FIND(\"-\",rngVisitante)))),--RIGHT(rngVisitante,(LEN(rngVisitante)-FIND(\"-\",rngVisitante)))))","v":0},{"$f":"SUM(IF(ISNUMBER(--LEFT(rngVisitante,FIND(\"-\",rngVisitante)-1)),--LEFT(rngVisitante,FIND(\"-\",rngVisitante)-1)))","v":0},0,0,0,0,0,0,0,0,0,0,{"v":-2000041,"d":"-2,000,041"}]
[40,{"$f":"DATOS!#REF!","v":{"$error":"#REF!"}},{"$f":"COUNTA('RESULTADOS POR JORNADA'!C42:AP42)","v":0},{"$f":"COUNTIF('Resultados Auxiliar'!B42:AP42,\">0\")","v":0},{"$f":"COUNTIF('Resultados Auxiliar'!B42:AP42,\"=0\")","v":0},{"$f":"COUNTIF('Resultados Auxiliar'!B42:AP42,\"<0\")","v":0},{"$f":"SUM(IF(ISNUMBER(--LEFT('RESULTADOS POR JORNADA'!C42:AP42,FIND(\"-\",'RESULTADOS POR JORNADA'!C42:AP42)-1)),--LEFT('RESULTADOS POR JORNADA'!C42:AP42,FIND(\"-\",'RESULTADOS POR JORNADA'!C42:AP42)-1)))","v":0},{"$f":"SUM(IF(ISNUMBER(--RIGHT('RESULTADOS POR JORNADA'!C42:AP42,(LEN('RESULTADOS POR JORNADA'!C42:AP42)-FIND(\"-\",'RESULTADOS POR JORNADA'!C42:AP42)))),--RIGHT('RESULTADOS POR JORNADA'!C42:AP42,(LEN('RESULTADOS POR JORNADA'!C42:AP42)-FIND(\"-\",'RESULTADOS POR JORNADA'!C42:AP42)))))","v":0},{"$f":"G42-H42","v":0},0,{"$f":"COUNTA(INDEX('RESULTADOS POR JORNADA'!$A$3:$AP$42,,ROW()))","v":0},{"$f":"COUNTIF(INDEX('Resultados Auxiliar'!$B$3:$AO$42,,ROW()-2),\"<0\")","v":0},{"$f":"COUNTIF(INDEX('Resultados Auxiliar'!$B$3:$AO$42,,ROW()-2),\"=0\")","v":0},{"$f":"COUNTIF(INDEX('Resultados Auxiliar'!$B$3:$AO$42,,ROW()-2),\">0\")","v":0},{"$f":"SUM(IF(ISNUMBER(--RIGHT(rngVisitante,(LEN(rngVisitante)-FIND(\"-\",rngVisitante)))),--RIGHT(rngVisitante,(LEN(rngVisitante)-FIND(\"-\",rngVisitante)))))","v":0},{"$f":"SUM(IF(ISNUMBER(--LEFT(rngVisitante,FIND(\"-\",rngVisitante)-1)),--LEFT(rngVisitante,FIND(\"-\",rngVisitante)-1)))","v":0},{"$f":"O42-P42","v":0},0,{"$f":"C42+K42","v":0},0,0,0,0,0,0,0,{"v":-2000042,"d":"-2,000,042"}]

{"sheet":"Resultados Auxiliar","index":5,"n_rows":42,"n_cols":41,"rows_kept":42,"hidden":true,"merged":[[1,1,1,6]]}
[]
[null,"Positivo=Ganado; Negativo=Perdido; Cero=Empate"]
[null,{"$f":"resultado","v":""},0,"","","",3,"",2,-3,"",1,"",3,1,"","",{"$f":"resultado","v":3},-2,"","","","","","","","","","","","","","",{"$f":"resultado","v":""},"","","","","","",{"$f":"resultado","v":""}]
[null,{"$f":"resultado","v":""},"",-1,1,"","",0,3,"","",-1,1,"","","","",{"$f":"resultado","v":3},1,"","","","","","","","","","","","","","","","","","","","","",""]
[null,-2,"","","",-2,"","","",1,3,"",2,-1,-2,1,0,"","","","","","","","","","","","","","","","","","","","","","","",""]
[null,1,"",1,"",0,"",0,"",-2,0,"",1,"","",0,0,"","","","","","","","","","","","","","","","","","","","","","","",""]
[null,1,0,"","","",0,"","",0,"",4,"",4,0,"","",5,0,"","","","","","","","","","","","","","","","","","","","","",""]
[null,"",-1,1,2,"","",0,3,0,"",1,"","","","","",3,1,"","","","","","","","","","","","","","","","","","","","","",""]
[null,0,"",1,"",-1,"","","",-1,-1,"",-3,0,"",-2,2,"","","","","","","","","","","","","","","","","","","","","","","",""]
[null,"","",0,-2,-1,"",3,"",-4,-1,"",1,"","",0,1,"","","","","","","","","","","","","","","","","","","","","","","",""]
[null,"",2,"","","","","","","",3,3,-1,"","",3,2,1,1,"","","","","","","","","","","","","","","","","","","","","",""]
[null,-1,-2,"","",2,-1,"","","","",1,"",2,-1,"","","",-1,"","","","","","","","","","","","","","","","","","","","","",""]
[null,"","",1,3,"","",1,1,"","","",0,"","",4,"",0,-1,"","","","","","","","","","","","","","","","","","","","","",""]
[null,1,"","","",1,-3,"","","",2,"","",-1,4,2,3,"","","","","","","","","","","","","","","","","","","","","","","",""]
[null,"",-3,"",1,"",-3,"",2,-1,"",2,"","",-4,"","",0,-1,"","","","","","","","","","","","","","","","","","","","","",""]
[null,"",0,"",1,"",0,0,1,-3,"",0,"","","","","",0,-3,"","","","","","","","","","","","","","","","","","","","","",""]
[null,1,0,"","",4,-1,"","","",2,"","",4,2,"",2,"","","","","",{"$f":"resultado","v":""},"","","","","","","","","","","","","","","","","",""]
[null,-2,0,"","",-1,-2,"","","",-1,0,"",-1,-1,"",{"$f":"resultado","v":""},"","","","","","","","","","","","","","","","","","","","","","","",""]
[null,{"$f":"resultado","v":""},"",2,1,"","",2,3,"",1,"",4,"","",1,7,"",{"$f":"resultado","v":""},"","","","","","","","","","","","","","","","","","","","","",""]
[null,"","",0,1,"","",0,1,"","","",-1,"","",0,2,{"$f":"resultado","v":0},"","","","","","","","","","","","","","","","","","","","","","",""]
[null,"","","","","","","","","","","","","","","","","","","","","","","","","","","","","","","","","","","","","","","",""]
[null,"","","","","","","","","","","","","","","","","","","","","","","","","","","","","","","","","","","","","","","",""]
[null,"","","","","","","","","","","","","","","","","","","","","","","","","","","","","","","","","","","","","","","",""]
[null,"","","","","","","","","","","","","","","","","","","","","","","","","","","","","","","","","","","","","","","",""]
[null,"","","","","","","","","","","","","","","","","","","","","","","","","","","","","","","","","","","","","","","",""]
[null,"","","","","","","","","","","","","","","","","","","","","","","","","","","","","","","","","","","","","","","",""]
[null,"","","","","","","","","","","","","","","","","","","","","","","","","","","","","","","","","","","","","","","",""]
[null,"","","","","","","","","","","","","","","","","","","","","","","","","","","","","","","","","","","","","","","",""]
[null,"","","","","","","","","","","","","","","","","","","","","","","","","","","","","","","","","","","","","","","",""]
[null,"","","","","","","","","","","","","","","","","","","","","","","","","","","","","","","","","","","","","","","",""]
[null,"","","","","","","","","","","","","","","","","","","","","","",{"$f":"resultado","v":""},"","","","","","","","","","","","","","","","",""]
[null,"","","","","","","","","","","","","","","","","","","","","","","","","","","","","","","","","","","","","","","",""]
[null,"","","","","","","","","","","","","","","","","","","","","","","","","","","","","","","","","","","","","","","",""]
[null,"","","","","","","","","","","","","","",{"$f":"resultado","v":""},"","","","","","","","","","","","","","","","","","","","","","","","",""]
[null,"","","","","","","","","","","","","","","","","","","","",{"$f":"resultado","v":""},"","","","","","","","","","","","","","","","","","",""]
[null,"","","","","","","","","","","","","","","","","","","","","","","","","","","","","","","","","","","","","","","",""]
[null,"","","","","","","","","","","","","","","","","","","","","","","","","","","","","","","","","","","","","","","",""]
[null,"","","","","","","","","","","","","","","","","","","","","","","","","","","","","","","","","","","","","","","",""]
[null,"","","","","","","","","","","","","","","","","","","","","","","","","","","","","","","","","","","","","","","",""]
[null,"","","","","","","","","","","","","","","","","","","","","","","","","","","","","","","","","","","","","","","",""]
[null,"","","","","","","","","","","","","","","","","","","","","","","","","","","","","","","","","","","","","","","",""]
[null,"","","","","","","","","","","","","","","","","","","","","","","","","","","","","","","","","","","","","","","",""]